BEGIN:VCALENDAR
VERSION:2.0
PRODID:-//ChamberMaster//Event Calendar 2.0//EN
METHOD:PUBLISH
X-PUBLISHED-TTL:P3D
REFRESH-INTERVAL:P3D
CALSCALE:GREGORIAN
BEGIN:VEVENT
DTSTART:20180926T220000Z
DTEND:20180927T010000Z
X-MICROSOFT-CDO-ALLDAYEVENT:FALSE
SUMMARY:CMA exam prep course
DESCRIPTION:Accounting and finance professionals\; ready to invest in your future? Walsh is offering our CMA exam prep course that will prepare you to become CMA certified. Take your career to new heights and register today. This 8 week course will help you develop the crucial skills needed to become an expert in financial planning\, analysis\, control\, decision support\, and professional ethics. Be sure to save by using the discount code 'earlybird\,' good through August 31. Walsh students and alumni will want to contact Cindy Rush for further discounts. Register Now: https://goo.gl/gEy4kg
X-ALT-DESC;FMTTYPE=text/html:Accounting and finance professionals\; ready to invest in your future? Walsh is offering our CMA exam prep course that will prepare you to become CMA certified. Take your career to new heights and register today. This 8 week course will help you develop the crucial skills needed to become an expert in financial planning\, analysis\, control\, decision support\, and professional ethics. Be sure to save by using the discount code &#39\;earlybird\,&#39\; good through August 31. Walsh students and alumni will want to contact Cindy Rush for further discounts. Register Now: <a href="https://goo.gl/gEy4kg" target="_blank">https://goo.gl/gEy4kg</a>
LOCATION:Walsh College 3838 Livernois Road Troy\, MI 48083
UID:e.3222.126
SEQUENCE:3
DTSTAMP:20260422T203813Z
URL:https://www.apacc.net/events/details/cma-exam-prep-course-126
END:VEVENT

END:VCALENDAR
