BEGIN:VCALENDAR
VERSION:2.0
PRODID:-//ChamberMaster//Event Calendar 2.0//EN
METHOD:PUBLISH
X-PUBLISHED-TTL:P3D
REFRESH-INTERVAL:P3D
CALSCALE:GREGORIAN
BEGIN:VEVENT
DTSTART:20200903T160000Z
DTEND:20200903T170000Z
X-MICROSOFT-CDO-ALLDAYEVENT:FALSE
SUMMARY:Cinter Technology Webinar Series on Teleworking & Cloud Solution
DESCRIPTION:Cinter Technology Services are holding free Webinar series on Cloud Services for the remote workplace.\n\n\n\nPlease join us if you have any of the issues below:\n\n	IT Issues with Work From Home setting\n	Problems maintaining workflow\n	Data Security concerns\n\n\n\nWebinar Topics\n\n\n	Current WFH risks\n	Creating & Supporting remote workplaces using the Cloud\n\n\n\n* IT Savings Up to 50% with Cloud Technology\n\n\n\nRegister for any of the time below:\n\n\n\nThursday\, September 3\, 2020\n\n12:00 p.m. EDT\n\nRegister Here\n\n\n\n3:00 p.m. EDT\n\nRegister Here
X-ALT-DESC;FMTTYPE=text/html:<strong>Cinter Technology Services</strong> are holding free Webinar series on Cloud Services for the remote workplace.<br />\n<br />\nPlease join us if you have any of the issues below:\n<ul>\n	<li>IT Issues with Work From Home setting</li>\n	<li>Problems maintaining workflow</li>\n	<li>Data Security concerns</li>\n</ul>\n<br />\n<strong>Webinar Topics</strong>\n\n<ul>\n	<li>Current WFH risks</li>\n	<li>Creating &amp\; Supporting remote workplaces using the Cloud</li>\n</ul>\n<br />\n<strong>* IT Savings Up to 50% with Cloud Technology<br />\n<br />\nRegister for any of the time below</strong>:<br />\n<br />\nThursday\, September 3\, 2020<br />\n12:00 p.m. EDT<br />\n<a href="https://register.gotowebinar.com/register/6788160898235472910" target="_blank">Register Here</a><br />\n<br />\n3:00 p.m. EDT<br />\n<a href="https://register.gotowebinar.com/register/9135420311444658958" target="_blank">Register Here</a><br />\n&nbsp\;
LOCATION:Webinar
UID:e.3222.1939
SEQUENCE:3
DTSTAMP:20260426T013851Z
URL:https://www.apacc.net/events/details/cinter-technology-webinar-series-on-teleworking-cloud-solution-1939
END:VEVENT

END:VCALENDAR
