BEGIN:VCALENDAR
VERSION:2.0
PRODID:-//ChamberMaster//Event Calendar 2.0//EN
METHOD:PUBLISH
X-PUBLISHED-TTL:P3D
REFRESH-INTERVAL:P3D
CALSCALE:GREGORIAN
BEGIN:VEVENT
DTSTART:20180912T130000Z
DTEND:20180912T150000Z
X-MICROSOFT-CDO-ALLDAYEVENT:FALSE
SUMMARY:CEED Lending Small Business Loan Orientation
DESCRIPTION:If you have a need for alternative financing and your business is located in Oakland County\, consider learning more about the CEED Lending Small Business Loan Program.\n\n\n\nDiscover the requirements and process necessary to apply for and obtain a Small Business Loan. CEED Lending is an initiative of Great Lakes Women's Business Council.
X-ALT-DESC;FMTTYPE=text/html:If you have a need for alternative financing and your business is located in Oakland County\, consider learning more about the CEED Lending Small Business Loan Program.<br />\n<br />\nDiscover the requirements and process necessary to apply for and obtain a Small Business Loan. CEED Lending is an initiative of Great Lakes Women&rsquo\;s Business Council.<br />\n<br />\n&nbsp\;
LOCATION:Oakland County Executive Office Building Conference Center 2100 Pontiac Lake Rd Waterford\, MI 48328
UID:e.3222.101
SEQUENCE:3
DTSTAMP:20260421T174719Z
URL:https://www.apacc.net/events/details/ceed-lending-small-business-loan-orientation-101
END:VEVENT

END:VCALENDAR
