BEGIN:VCALENDAR
VERSION:2.0
PRODID:-//ChamberMaster//Event Calendar 2.0//EN
METHOD:PUBLISH
X-PUBLISHED-TTL:P3D
REFRESH-INTERVAL:P3D
CALSCALE:GREGORIAN
BEGIN:VEVENT
DTSTART:20250716T160000Z
DTEND:20250716T173000Z
X-MICROSOFT-CDO-ALLDAYEVENT:FALSE
SUMMARY:Capitalize on the AI Revolution - free webinar
DESCRIPTION:In observance of Artificial Intelligence (AI) Day\, the SBA Michigan District Office in collaboration with the BBCetc and the Schoolcraft College Apex Accelerator presents a free webinar that highlights the opportunities related to AI for tech entrepreneurs. \n\n\n\nThis information session is designed to equip entrepreneurs in the AI technology space with essential knowledge about funding options and contracting strategies necessary for developing and scaling their AI Ventures. \n\n\n\nWhether you're in the early stages of your startup or looking to scale your AI product\, this session will provide valuable insights into securing the funding and technical assistance needed to bring your innovative AI solutions to market and scale successfully.
X-ALT-DESC;FMTTYPE=text/html:<p>&nbsp\;</p>\n\n<p>In observance of Artificial Intelligence (AI) Day\, the SBA Michigan District Office in collaboration with the BBCetc and the Schoolcraft College Apex Accelerator presents a free webinar that highlights the opportunities related to AI for tech entrepreneurs.&nbsp\;<br />\n<br />\nThis information session is designed to equip entrepreneurs in the AI technology space with essential knowledge about funding options and contracting strategies necessary for developing and scaling their AI Ventures.&nbsp\;<br />\n<br />\nWhether you&rsquo\;re in the early stages of your startup or looking to scale your AI product\, this session will provide valuable insights into securing the funding and technical assistance needed to bring your innovative AI solutions to market and scale successfully.</p>\n
LOCATION:Virtual\, MS Teams - Registration is required. Please click on the link below to register.
UID:e.3222.3000
SEQUENCE:3
DTSTAMP:20260425T190905Z
URL:https://www.apacc.net/events/details/capitalize-on-the-ai-revolution-free-webinar-3000
END:VEVENT

END:VCALENDAR
