BEGIN:VCALENDAR
VERSION:2.0
PRODID:-//ChamberMaster//Event Calendar 2.0//EN
METHOD:PUBLISH
X-PUBLISHED-TTL:P3D
REFRESH-INTERVAL:P3D
CALSCALE:GREGORIAN
BEGIN:VEVENT
DTSTART:20200911T230000Z
DTEND:20200912T000000Z
X-MICROSOFT-CDO-ALLDAYEVENT:FALSE
SUMMARY:CAPAW\, National ACE & the AAPI Community Present: "Courageous Women\, Brave Families"
DESCRIPTION:The Center for Asian Pacific American Women (CAPAW)\, in collaboration with National ACE\, OCA National\, and AAPI community-based organizations throughout the nation\, are pleased to host a very special conversation with several courageous women (and their brave families). This program commemorates the release of Disney's Mulan\, which opened on Disney+ on Sept. 4. Please join us! RSVPs are required to participate. \n\n\n\nLeading the conversation will be Ms. Sue Ann Hong\, President & CEO of the Center for Asian Pacific American Women (CAPAW). Her special guests include:\n\n \n\nOpening Remarks: Ms. Chiling Tong\, President & CEO\, National ACE\n\n \n\nDistinguished Guests and Family Members:\n\n	Ms. Veena Goel Crownholm\, Lifestyle Influencer\, Millennial Mom\n	Dr. Karen Eng\, Board Chair\, National ACE\n	Dr. No l S. Harmon\, President & Executive Director\, APIA Scholars\n	Ms. Sharon Wong\, National President\, OCA - Asian Pacific American Advocates
X-ALT-DESC;FMTTYPE=text/html:The Center for Asian Pacific American Women (CAPAW)\, in collaboration with National ACE\, OCA National\, and AAPI community-based organizations throughout the nation\, are pleased to host a very special conversation with several courageous women (and their brave families). This program commemorates the release of Disney&#39\;s Mulan\, which opened on Disney+ on Sept. 4. Please join us! RSVPs are required to participate.&nbsp\;<br />\n<br />\nLeading the conversation will be Ms. Sue Ann Hong\, President &amp\; CEO of the Center for Asian Pacific American Women (CAPAW). Her special guests include:<br />\n&nbsp\;<br />\n<strong>Opening Remarks</strong>: Ms. Chiling Tong\, President &amp\; CEO\, National ACE<br />\n&nbsp\;<br />\n<strong>Distinguished Guests and Family Members</strong>:\n<ul>\n	<li>Ms. Veena Goel Crownholm\, Lifestyle Influencer\, Millennial Mom</li>\n	<li>Dr. Karen Eng\, Board Chair\, National ACE</li>\n	<li>Dr. No&euml\;l S. Harmon\, President &amp\; Executive Director\, APIA Scholars</li>\n	<li>Ms. Sharon Wong\, National President\, OCA - Asian Pacific American Advocates</li>\n</ul>\n
LOCATION:Webinar by CAPAW\, National ACE & AAPI Community
UID:e.3222.1958
SEQUENCE:3
DTSTAMP:20260424T073559Z
URL:https://www.apacc.net/events/details/capaw-national-ace-the-aapi-community-present-courageous-women-brave-families-1958
END:VEVENT

END:VCALENDAR
