BEGIN:VCALENDAR
VERSION:2.0
PRODID:-//ChamberMaster//Event Calendar 2.0//EN
METHOD:PUBLISH
X-PUBLISHED-TTL:P3D
REFRESH-INTERVAL:P3D
CALSCALE:GREGORIAN
BEGIN:VEVENT
DTSTART:20180930T170000Z
DTEND:20180930T210000Z
X-MICROSOFT-CDO-ALLDAYEVENT:FALSE
SUMMARY:CAPA 2018 Leadership Summit
DESCRIPTION:In collaboration with other member organizations\, Council of Asian Pacific Americans (CAPA) will host the 16th Leadership Summit on Sunday September 30\, 2018.\n\n\n\nCAPA brings Asian Pacific Americans together with the community at large through our cultural\, educational and community services. This year's summit theme is "Share\, Inspire & Embrace Community" \n\n	Leaders' Insight\n	Community Project Think Tank (If you woul dlike to submit your project\, please submit your project by 9/14 for review)\n	Organization Leaders' Round Table
X-ALT-DESC;FMTTYPE=text/html:In collaboration with other member organizations\, Council of Asian Pacific Americans (CAPA) will host the 16th Leadership Summit on Sunday September 30\, 2018.<br />\n<br />\nCAPA brings Asian Pacific Americans together with the community at large through our cultural\, educational and community services. This year&rsquo\;s summit theme is &ldquo\;Share\, Inspire &amp\; Embrace Community&rdquo\;&nbsp\;\n<ul>\n	<li>Leaders&rsquo\; Insight</li>\n	<li>Community Project Think Tank (If you woul dlike to submit your project\, please submit your project by 9/14 for review)</li>\n	<li>Organization Leaders&#39\; Round Table</li>\n</ul>\n
LOCATION:Madison Place 876 Horace Brown Dr. Madison Heights\, MI 48071
UID:e.3222.144
SEQUENCE:3
DTSTAMP:20260422T222359Z
URL:https://www.apacc.net/events/details/capa-2018-leadership-summit-144
END:VEVENT

END:VCALENDAR
