BEGIN:VCALENDAR
VERSION:2.0
PRODID:-//ChamberMaster//Event Calendar 2.0//EN
METHOD:PUBLISH
X-PUBLISHED-TTL:P3D
REFRESH-INTERVAL:P3D
CALSCALE:GREGORIAN
BEGIN:VEVENT
DTSTART:20200623T150000Z
DTEND:20200623T160000Z
X-MICROSOFT-CDO-ALLDAYEVENT:FALSE
SUMMARY:Canadian Power Generation Sector - Civil Nuclear Present and Future
DESCRIPTION:Overview\n\n  Canada is in an approximately $20 billion investment program for refurbishment of the nuclear reactors fleet\, over the next 10 years.\n\n\n\nObjectives\n\n  Learn about the power generation sector in Canada\, with a focus on nuclear power generation\, status of the existing and planned major projects and steps for the next near future developments\, as presented by the main nuclear power operator in Canada.\n\n\n\nEvent Information\n\n	Canada has a strong infrastructure and manufacturing sector supported by an electrical power system with 135 GW installed capacity of power generation.\n	This includes also a fleet of 19 operational nuclear reactor units which provide approximately 15% of the generated electricity.\n	OPG - 10 nuclear reactors   refurbishment program with $10 Billion investment and SMR development at Darlington New Nuclear Project (DNNP).\n	Bruce Power   8 nuclear reactors   refurbishment program with $10 Billion investment.
X-ALT-DESC;FMTTYPE=text/html:<strong>Overview</strong><br />\n&nbsp\; Canada is in an approximately $20 billion investment program for refurbishment of the nuclear reactors fleet\, over the next 10 years.<br />\n<br />\n<strong>Objectives</strong><br />\n&nbsp\; Learn about the power generation sector in Canada\, with a focus on nuclear power generation\, status of the existing and planned major projects and steps for the next near future developments\, as presented by the main nuclear power operator in Canada.<br />\n<br />\n<strong>Event Information</strong>\n<ul>\n	<li>Canada has a strong infrastructure and manufacturing sector supported by an electrical power system with 135 GW installed capacity of power generation.</li>\n	<li>This includes also a fleet of 19 operational nuclear reactor units which provide approximately 15% of the generated electricity.</li>\n	<li>OPG - 10 nuclear reactors &ndash\; refurbishment program with $10 Billion investment and SMR development at Darlington New Nuclear Project (DNNP).</li>\n	<li>Bruce Power &ndash\; 8 nuclear reactors &ndash\; refurbishment program with $10 Billion investment.</li>\n</ul>\n
LOCATION:Webinar by U.S. Commercial Services
UID:e.3222.1815
SEQUENCE:3
DTSTAMP:20260422T084908Z
URL:https://www.apacc.net/events/details/canadian-power-generation-sector-civil-nuclear-present-and-future-1815
END:VEVENT

END:VCALENDAR
