BEGIN:VCALENDAR
VERSION:2.0
PRODID:-//ChamberMaster//Event Calendar 2.0//EN
METHOD:PUBLISH
X-PUBLISHED-TTL:P3D
REFRESH-INTERVAL:P3D
CALSCALE:GREGORIAN
BEGIN:VEVENT
DTSTART:20180919T150000Z
DTEND:20180919T160000Z
X-MICROSOFT-CDO-ALLDAYEVENT:FALSE
SUMMARY:Business Legal Issues - Webinar
DESCRIPTION:Topic: Legal\n\nAre you struggling with understanding legal issues for your business\, or in the beginning stages of starting a business?\n\n\n\nJoin us for a one-hour long accelerated walkthrough of our "Business Legal Issues" course.\n\n\n\nThis introductory webinar covers educational content on various forms of legal entities\, tax and liability issues\, employee vs contractor considerations\, as well as when and how to engage with an attorney and/or CPA.\n\n\n\nWe'll guide you through about 40 minutes of the most important questions to ask yourself when starting a business\, pausing for audience questions and feedback along the way.\n\n\n\nWe have reserved 20 minutes for a live question and answer session\, in which one of our certified small business consultants will answer questions from the audience on a first come\, first served basis.
X-ALT-DESC;FMTTYPE=text/html:Topic: Legal<br />\nAre you struggling with understanding legal issues for your business\, or in the beginning stages of starting a business?<br />\n<br />\nJoin us for a one-hour long accelerated walkthrough of our &ldquo\;Business Legal Issues&rdquo\; course.<br />\n<br />\nThis introductory webinar covers educational content on various forms of legal entities\, tax and liability issues\, employee vs contractor considerations\, as well as when and how to engage with an attorney and/or CPA.<br />\n<br />\nWe&rsquo\;ll guide you through about 40 minutes of the most important questions to ask yourself when starting a business\, pausing for audience questions and feedback along the way.<br />\n<br />\nWe have reserved 20 minutes for a live question and answer session\, in which one of our certified small business consultants will answer questions from the audience on a first come\, first served basis.
LOCATION:Online
UID:e.3222.150
SEQUENCE:3
DTSTAMP:20260424T005508Z
URL:https://www.apacc.net/events/details/business-legal-issues-webinar-150
END:VEVENT

END:VCALENDAR
