BEGIN:VCALENDAR
VERSION:2.0
PRODID:-//ChamberMaster//Event Calendar 2.0//EN
METHOD:PUBLISH
X-PUBLISHED-TTL:P3D
REFRESH-INTERVAL:P3D
CALSCALE:GREGORIAN
BEGIN:VEVENT
DTSTART:20210316T210000Z
DTEND:20210316T220000Z
X-MICROSOFT-CDO-ALLDAYEVENT:FALSE
SUMMARY:Business Briefing with The White House on the American Rescue Plan
DESCRIPTION:Last week\, President Biden signed the American Rescue Plan into law. On Tuesday\, March 16th\, Small Business For America's Future\, Business Forward & other partner organizations will welcome Bharat Ramamurti\, Deputy Director of the National Economic Council at The White House to discuss this significant accomplishment and what it means for you. \n\n \n\nPlease join us Tuesday\, March 16th at 5:00 p.m. ET/2:00 p.m. PT for a conversation including question and answer with Bharat Ramamurti from The White House. \n\n\n\nWHAT:\n\nBriefing on the American Rescue Plan\n\n\n\nWITH:\n\nBharat Ramamurti\n\nNational Economic Council\n\nThe White House \n\n\n\nAbout Bharat Ramamurti:\n\nRamamurti\, a graduate of Harvard College and Yale Law School\, is currently Deputy Director of the National Economic Council\, and formerly the Managing Director of the Corporate Power program at the Roosevelt Institute. He was an aide of Senator Elizabeth Warren for seven years and served as her economic adviser during her 2020 presidential election campaign. In April 2020\, Ramamurti was appointed member of the Congressional Oversight Commission for the Coronavirus Aid\, Relief\, and Economic Security Act (CARES)\, to oversee spending.\n\n\n\nTo Register\, please click here.\n\n\n\nAbout National ACE:\n\nNational ACE is helping AAPI businesses navigate the Covid-19 pandemic. For more information on what resources are available to you\, contact us by visiting www.ACESmallBusiness.org.
X-ALT-DESC;FMTTYPE=text/html:<br />\n<br />\nLast week\, President Biden signed the American Rescue Plan into law. On Tuesday\, March 16th\, <a href="https://www.smallbusinessforamericasfuture.org/" target="_blank">Small Business For America&rsquo\;s Future</a>\, Business Forward &amp\; other partner organizations will welcome Bharat Ramamurti\, Deputy Director of the National Economic Council at The White House to discuss this significant accomplishment and what it means for you.&nbsp\;<br />\n&nbsp\;<br />\nPlease join us Tuesday\, March 16th at 5:00 p.m. ET/2:00 p.m. PT for a conversation including question and answer with Bharat Ramamurti from The White House.&nbsp\;<br />\n<br />\n<strong>WHAT:</strong><br />\nBriefing on the American Rescue Plan<br />\n<br />\n<strong>WITH:</strong><br />\nBharat Ramamurti<br />\nNational Economic Council<br />\nThe White House&nbsp\;<br />\n<br />\n<strong>About Bharat Ramamurti:</strong><br />\nRamamurti\, a graduate of Harvard College and Yale Law School\, is currently Deputy Director of the National Economic Council\, and formerly the Managing Director of the Corporate Power program at the Roosevelt Institute. He was an aide of Senator Elizabeth Warren for seven years and served as her economic adviser during her 2020 presidential election campaign. In April 2020\, Ramamurti was appointed member of the Congressional Oversight Commission for the Coronavirus Aid\, Relief\, and Economic Security Act (CARES)\, to oversee spending.<br />\n<br />\nTo Register\, please click <a href="https://docs.google.com/forms/d/e/1FAIpQLSfLoSiPi0J6R6Pi1qgvsBR8IE-KaUfqxOzpGZq9x5N49XfCmQ/viewform" target="_blank">here</a>.<br />\n<br />\n<strong>About&nbsp\;National ACE:</strong><br />\nNational ACE is helping AAPI businesses navigate the Covid-19 pandemic. For more information on what resources are available to you\, contact us by visiting <a href="http://www.ACESmallBusiness.org" target="_blank">www.ACESmallBusiness.org</a>.
LOCATION:Virtual
UID:e.3222.2082
SEQUENCE:3
DTSTAMP:20260423T222038Z
URL:https://www.apacc.net/events/details/business-briefing-with-the-white-house-on-the-american-rescue-plan-2082
END:VEVENT

END:VCALENDAR
