BEGIN:VCALENDAR
VERSION:2.0
PRODID:-//ChamberMaster//Event Calendar 2.0//EN
METHOD:PUBLISH
X-PUBLISHED-TTL:P3D
REFRESH-INTERVAL:P3D
CALSCALE:GREGORIAN
BEGIN:VEVENT
DTSTART:20210429T160000Z
DTEND:20210429T170000Z
X-MICROSOFT-CDO-ALLDAYEVENT:FALSE
SUMMARY:Briefing on U.S. Small Business Administration's new $28.6 billion Restaurant Revitalization Fund (RRF)
DESCRIPTION:This event is hosted by National ACE. This special briefing will focus on the U.S. Small Business Administration's new $28.6 Billion Restaurant Revitalization Fund (RRF).\n\n\n\nKeynote Speaker: Isabella Casillas Guzman\n\n                              Administrator\n\n                              U.S. Small Business Administration (SBA)\n\n\n\n\n\nThe Restaurant Revitalization Fund program by SBA provides emergency assistance for eligible restaurants\, bars\, and other qualifying businesses impacted by COVID-19. To find out more about this fund\, please click here.
X-ALT-DESC;FMTTYPE=text/html:<br />\n<br />\n<br />\nThis event is hosted by <a href="https://www.nationalace.org/" target="_blank">National ACE</a>. This special briefing will focus on the U.S. Small Business Administration&#39\;s new $28.6 Billion Restaurant Revitalization Fund (RRF).<br />\n<br />\nKeynote Speaker: <strong>Isabella Casillas Guzman</strong><br />\n&nbsp\;&nbsp\;&nbsp\;&nbsp\;&nbsp\;&nbsp\;&nbsp\;&nbsp\;&nbsp\;&nbsp\;&nbsp\;&nbsp\;&nbsp\;&nbsp\;&nbsp\;&nbsp\;&nbsp\;&nbsp\;&nbsp\;&nbsp\;&nbsp\;&nbsp\;&nbsp\;&nbsp\;&nbsp\;&nbsp\;&nbsp\;&nbsp\;&nbsp\;&nbsp\;Administrator<br />\n&nbsp\;&nbsp\;&nbsp\;&nbsp\;&nbsp\;&nbsp\;&nbsp\;&nbsp\;&nbsp\;&nbsp\;&nbsp\;&nbsp\;&nbsp\;&nbsp\;&nbsp\;&nbsp\;&nbsp\;&nbsp\;&nbsp\;&nbsp\;&nbsp\;&nbsp\;&nbsp\;&nbsp\;&nbsp\;&nbsp\;&nbsp\;&nbsp\;&nbsp\;&nbsp\;U.S. Small Business Administration (SBA)<br />\n<br />\n<br />\nThe <strong>Restaurant Revitalization Fund </strong>program by SBA provides emergency assistance for eligible restaurants\, bars\, and other qualifying businesses impacted by COVID-19. To find out more about this fund\, please click <a href="https://www.sba.gov/funding-programs/loans/covid-19-relief-options/restaurant-revitalization-fund" target="_blank">here</a>.
LOCATION:Virtual.
UID:e.3222.2120
SEQUENCE:3
DTSTAMP:20260422T142346Z
URL:https://www.apacc.net/events/details/briefing-on-u-s-small-business-administration-s-new-28-6-billion-restaurant-revitalization-fund-rrf-2120
END:VEVENT

END:VCALENDAR
