BEGIN:VCALENDAR
VERSION:2.0
PRODID:-//ChamberMaster//Event Calendar 2.0//EN
METHOD:PUBLISH
X-PUBLISHED-TTL:P3D
REFRESH-INTERVAL:P3D
CALSCALE:GREGORIAN
BEGIN:VEVENT
DTSTART:20251007T123000Z
DTEND:20251007T160000Z
X-MICROSOFT-CDO-ALLDAYEVENT:FALSE
SUMMARY:Bridging the Risk Gap: Legal Strategies for Supply Chain Resilience
DESCRIPTION:In today's rapidly evolving global landscape\, supply chain leaders face mounting challenges   from shifting regulatory frameworks to rising cybersecurity threats and increasing geopolitical uncertainty.\n\n\n\nJoin us for a focused program that delves into the major challenges impacting global supply chains and offers practical solutions to strengthen resilience and adaptability. Featuring keynote address from Heather Grondin\, chief relations officer of the Windsor-Detroit Bridge Authority.\n\n\n\nAgenda:\n\n8:00   8:30 a.m.      Registration + Networking\n\n8:30   8:40 a.m.      Welcome + Introduction     \n\n8:40   9:10 a.m.      Session 1 - Crossing Borders: Navigating Global Trade and Regulatory Challenges   USMCA\n\nAida Dismondy\, Senior Counsel\, Warner Norcross + Judd LLP\n\nLaura You\, Partner\, Warner Norcross + Judd LLP\n\n\n\nExplore the latest updates and implications of the United States-Mexico-Canada Agreement (USMCA)\, as well as emerging global trade developments. This session will provide strategies for compliance\, risk mitigation and leveraging trade agreements to optimize cross-border supply chain operations.\n\n\n\n9:10 - 9:40 a.m.       Session 2 - Cybersecurity in the Supply Chain\n\nNate Steed\, Partner\, Warner Norcross + Judd LLP\n\nKelly Hollingsworth\, Partner\, Warner Norcross + Judd LLP\n\n\n\nAs cyber threats increasingly target supply chain networks\, ensuring digital resilience is now a top priority. Learn about current threat landscapes\, vulnerabilities in supplier ecosystems and best practices for building a robust cybersecurity posture across your supply chain.\n\n\n\n9:40   10:00 a.m.      Networking Break\n\n\n\n10:00   10:30 a.m.      Session 3 - Closing the Disruption Gap: Contingency Planning for the Future\n\nHomayune Ghaussi\, Partner\, Warner Norcross + Judd LLP\n\nAdam Ratliff\, Partner\, Warner Norcross + Judd LLP\n\n\n\nFrom pandemics to geopolitical shocks\, the past few years have underscored the need for comprehensive contingency planning. This session will cover scenario-based planning\, risk assessment frameworks and the development of agile response strategies to ensure continuity under adverse conditions.\n\n\n\n10:30   11:00 a.m.      Session 4 - Immigration and the Supply Chain: Challenges\, Impacts and Policy Solutions\n\nSarah Bileti\, Senior Counsel\, Warner Norcross + Judd LLP\n\n\n\nThis program explores the critical intersection of immigration and supply chain operations\, focusing on how immigration policies and labor dynamics shape the movement of goods and services across local and global markets.\n\n\n\n11:00   12:00 noon    Lunch + Keynote - Heather Grondin\, Chief Relations Officer\, Windsor-Detroit Bridge Authority\n\n\n\nJoin us for a keynote exploring the economic and trade benefits of the Gordie Howe International Bridge   a transformative infrastructure project poised to enhance North American supply chains\, accelerate cross-border trade and drive long-term regional growth. Hear how the bridge strengthens economic resilience\, attracts investment and positions the U.S. and Canada for global competitiveness.\n\n\n\nWe welcome supply chain managers\, logistics professionals\, procurement officers\, compliance specialists\, risk management leaders and anyone involved in the end-to-end supply chain ecosystem to attend this event.
X-ALT-DESC;FMTTYPE=text/html:<br />\nIn today&rsquo\;s rapidly evolving global landscape\, supply chain leaders face mounting challenges &mdash\; from shifting regulatory frameworks to rising cybersecurity threats and increasing geopolitical uncertainty.<br />\n<br />\nJoin us for a focused program that delves into the major challenges impacting global supply chains and offers practical solutions to strengthen resilience and adaptability. Featuring keynote address from Heather Grondin\, chief relations officer of the Windsor-Detroit Bridge Authority.<br />\n<br />\n<strong>Agenda:</strong><br />\n8:00 &ndash\; 8:30 a.m.&nbsp\; &nbsp\; &nbsp\;&nbsp\;Registration + Networking<br />\n8:30 &ndash\; 8:40 a.m.&nbsp\; &nbsp\; &nbsp\;&nbsp\;Welcome + Introduction&nbsp\; &nbsp\; &nbsp\;<br />\n8:40 &ndash\; 9:10 a.m.&nbsp\; &nbsp\; &nbsp\;&nbsp\;Session 1 -&nbsp\;Crossing Borders: Navigating Global Trade and Regulatory Challenges &ndash\; USMCA<br />\n<em><strong>Aida Dismondy</strong></em>\, Senior Counsel\, Warner Norcross + Judd LLP<br />\n<em><strong>Laura You</strong></em>\, Partner\, Warner Norcross + Judd LLP<br />\n<br />\nExplore the latest updates and implications of the United States-Mexico-Canada Agreement (USMCA)\, as well as emerging global trade developments. This session will provide strategies for compliance\, risk mitigation and leveraging trade agreements to optimize cross-border supply chain operations.<br />\n<br />\n9:10 - 9:40 a.m.&nbsp\; &nbsp\; &nbsp\; &nbsp\;Session 2 -&nbsp\;Cybersecurity in the Supply Chain<br />\n<em><strong>Nate Steed</strong></em>\, Partner\, Warner Norcross + Judd LLP<br />\n<em><strong>Kelly Hollingsworth</strong></em>\, Partner\, Warner Norcross + Judd LLP<br />\n<br />\nAs cyber threats increasingly target supply chain networks\, ensuring digital resilience is now a top priority. Learn about current threat landscapes\, vulnerabilities in supplier ecosystems and best practices for building a robust cybersecurity posture across your supply chain.<br />\n<br />\n9:40 &ndash\; 10:00 a.m.&nbsp\;&nbsp\;&nbsp\;&nbsp\;&nbsp\;&nbsp\;Networking Break<br />\n<br />\n10:00 &ndash\; 10:30 a.m.&nbsp\;&nbsp\;&nbsp\;&nbsp\;&nbsp\;&nbsp\;Session 3 -&nbsp\;Closing the Disruption Gap: Contingency Planning for the Future<br />\n<em><strong>Homayune Ghaussi</strong></em>\, Partner\, Warner Norcross + Judd LLP<br />\n<em><strong>Adam Ratliff</strong></em>\, Partner\, Warner Norcross + Judd LLP<br />\n<br />\nFrom pandemics to geopolitical shocks\, the past few years have underscored the need for comprehensive contingency planning. This session will cover scenario-based planning\, risk assessment frameworks and the development of agile response strategies to ensure continuity under adverse conditions.<br />\n<br />\n10:30 &ndash\; 11:00 a.m.&nbsp\; &nbsp\; &nbsp\;&nbsp\;Session 4 -&nbsp\;Immigration and the Supply Chain: Challenges\, Impacts and Policy Solutions<br />\n<em><strong>Sarah Bileti</strong></em>\, Senior Counsel\, Warner Norcross + Judd LLP<br />\n<br />\nThis program explores the critical intersection of immigration and supply chain operations\, focusing on how immigration policies and labor dynamics shape the movement of goods and services across local and global markets.<br />\n<br />\n11:00 &ndash\; 12:00 noon&nbsp\; &nbsp\;&nbsp\;Lunch + Keynote -&nbsp\;<em><strong>Heather Grondin</strong></em>\, Chief Relations Officer\, Windsor-Detroit Bridge Authority<br />\n<br />\nJoin us for a keynote exploring the economic and trade benefits of the Gordie Howe International Bridge &mdash\; a transformative infrastructure project poised to enhance North American supply chains\, accelerate cross-border trade and drive long-term regional growth. Hear how the bridge strengthens economic resilience\, attracts investment and positions the U.S. and Canada for global competitiveness.<br />\n<br />\nWe welcome supply chain managers\, logistics professionals\, procurement officers\, compliance specialists\, risk management leaders and anyone involved in the end-to-end supply chain ecosystem to attend this event.
LOCATION:Cambria Hotel Downtown Detroit
UID:e.3222.3007
SEQUENCE:3
DTSTAMP:20260426T000933Z
URL:https://www.apacc.net/events/details/bridging-the-risk-gap-legal-strategies-for-supply-chain-resilience-3007
END:VEVENT

END:VCALENDAR
