BEGIN:VCALENDAR
VERSION:2.0
PRODID:-//ChamberMaster//Event Calendar 2.0//EN
METHOD:PUBLISH
X-PUBLISHED-TTL:P3D
REFRESH-INTERVAL:P3D
CALSCALE:GREGORIAN
BEGIN:VEVENT
DTSTART:20250429T150000Z
DTEND:20250429T163000Z
X-MICROSOFT-CDO-ALLDAYEVENT:FALSE
SUMMARY:Bonding 101: Why It’s Important for Businesses
DESCRIPTION:Join the USDOT's Small Business Transportation Resource Center (SBTRC) and SMART for an informative Bonding 101 webinar to learn:\n\n	What is bonding\, and do I need it?\n	What do bond surety agents look for in a business?\n	What resources are available to help your business?\n	How can bonding help you secure government contracts?\n\nFeaturing Kevin Keller from The Fedeli Group\, a seasoned surety underwriter and agent helping businesses succeed!\n\nDon't miss this opportunity to position your business for success!\n\n\n\nView Flyer: Click Here
X-ALT-DESC;FMTTYPE=text/html:<br />\nJoin the USDOT&rsquo\;s Small Business Transportation Resource Center (SBTRC) and SMART for an informative Bonding 101 webinar to learn:\n<ul>\n	<li>What is bonding\, and do I need it?</li>\n	<li>What do bond surety agents look for in a business?</li>\n	<li>What resources are available to help your business?</li>\n	<li>How can bonding help you secure government contracts?</li>\n</ul>\nFeaturing Kevin Keller from The Fedeli Group\, a seasoned surety underwriter and agent helping businesses succeed!<br />\nDon&rsquo\;t miss this opportunity to position your business for success!<br />\n<br />\nView Flyer:&nbsp\;<a href="https://chambermaster.blob.core.windows.net/userfiles/UserFiles/chambers/3222/File/Partner_Events/2025BondingFlyer.pdf" target="_blank">Click Here</a>
LOCATION:Webinar
UID:e.3222.2976
SEQUENCE:3
DTSTAMP:20260425T144734Z
URL:https://www.apacc.net/events/details/bonding-101-why-it-s-important-for-businesses-2976
END:VEVENT

END:VCALENDAR
