BEGIN:VCALENDAR
VERSION:2.0
PRODID:-//ChamberMaster//Event Calendar 2.0//EN
METHOD:PUBLISH
X-PUBLISHED-TTL:P3D
REFRESH-INTERVAL:P3D
CALSCALE:GREGORIAN
BEGIN:VEVENT
DTSTART:20210831T220000Z
DTEND:20210901T000000Z
X-MICROSOFT-CDO-ALLDAYEVENT:FALSE
SUMMARY:Back-To-School Townhall
DESCRIPTION:Join U.S. Representative Brenda L. Lawrence (MI-14) and educational panelists for a back-to-school townhall! Join them at the Southfield Public Library or join online via Zoom or Facebook. Please RSVP to join us either in-person or online. The in-person event is limited to 70 attendees. \n\n\n\nWho:\n\n	Rep. Brenda Lawrence\n	Lieutenant Governor Garlin Gilchrist II\n	Dr. Calandra Green\, Public Health Administrator for the Oakland County Health Department\n	Dr. Jennifer Martin-Green\, Superintendent of Southfield Public Schools\n	Dr. Nikolai Vitti\, Superintendent of Detroit Public Schools\n\n\n\n\n\nTo register:\n\n\n	In-person event\, click here.\n	Zoom event\, click here.\n	Rep Lawrence's FB Page\, click here.
X-ALT-DESC;FMTTYPE=text/html:<br />\n<br />\nJoin U.S. Representative Brenda L. Lawrence (MI-14) and educational panelists for a back-to-school townhall! Join them at the Southfield Public Library or join online via Zoom or Facebook. Please RSVP to join us either in-person or online. The in-person event is limited to 70 attendees.&nbsp\;<br />\n<br />\n<strong>Who:</strong>\n<ul>\n	<li>Rep. Brenda Lawrence</li>\n	<li>Lieutenant Governor Garlin Gilchrist II</li>\n	<li>Dr. Calandra Green\, Public Health Administrator for the Oakland County Health Department</li>\n	<li>Dr. Jennifer Martin-Green\, Superintendent of Southfield Public Schools</li>\n	<li>Dr. Nikolai Vitti\, Superintendent of Detroit Public Schools</li>\n</ul>\n<br />\n<br />\n<strong>To register:</strong>\n\n<ul>\n	<li>In-person event\,&nbsp\;click <a href="https://www.eventbrite.com/e/back-to-school-michigan-2021-tickets-167516180405" target="_blank">here</a>.</li>\n	<li>Zoom event\, click <a href="https://us06web.zoom.us/webinar/register/WN_W1VHdZ1pStKT2ceHT1Xdrg" target="_blank">here</a>.</li>\n	<li>Rep Lawrence&#39\;s FB Page\, click <a href="https://www.facebook.com/Rep.BLawrence/" target="_blank">here</a>.&nbsp\;</li>\n</ul>\n
LOCATION:Southfield Public Library 26300 Evergreen Road Southfield\, MI 48076 View in Google Maps OR Zoom event (Zoom Web ID: 884 3169 7790 | Passcode: 264179) OR Rep. Lawrence's Facebook page.
UID:e.3222.2215
SEQUENCE:3
DTSTAMP:20260422T092611Z
URL:https://www.apacc.net/events/details/back-to-school-townhall-2215
END:VEVENT

END:VCALENDAR
