BEGIN:VCALENDAR
VERSION:2.0
PRODID:-//ChamberMaster//Event Calendar 2.0//EN
METHOD:PUBLISH
X-PUBLISHED-TTL:P3D
REFRESH-INTERVAL:P3D
CALSCALE:GREGORIAN
BEGIN:VEVENT
DTSTART;VALUE=DATE:20200921
DTEND;VALUE=DATE:20200926
TRANSP:TRANSPARENT
X-MICROSOFT-CDO-ALLDAYEVENT:TRUE
SUMMARY:Automation Alley's Virtual Trade Mission to Mexico
DESCRIPTION:Learn More and Apply Today!\n\n\n\nRegistration Deadline: August 7\, 2020\n\n\n\nIt may not be the best time to travel internationally\, but it is the best time to go global! Expand your business into the second-largest market for U.S. exports with help from Automation Alley.\n\nJoin Automation Alley's virtual trade mission to Mexico\, a nation with a strong demand for the following Michigan-made products\, services and technologies:\n\n	Aerospace and defense\n	Automotive components and supplies\n	Design\, engineering and advanced manufacturing services\n	Environmental technologies\n	Health care and medical\n	IT and information communication technologies\n\nWhy Participate?\n\n\n	Attend virtual matchmaking meetings with potential buyers and end users of your products\, services and technologies\n	Meet the key players you need to know to be successful in Mexico\n	Automation Alley introduces small and medium-size businesses to high-growth markets and opportunities to expand abroad\n\nThis trade mission is made possible in partnership with the MEDC. Be sure to ask about Michigan's State Trade Expansion Program (MI-STEP)\, which may qualify your company to receive up to a 50 percent reimbursement for the costs of participating in this mission.\n\n\n\nParticipation is limited to 10 companies and the deadline to register is August 7\, 2020.
X-ALT-DESC;FMTTYPE=text/html:<a href="http://members.automationalley.com/events/details/automation-alley-s-virtual-trade-mission-to-mexico-14203?mkt_tok=eyJpIjoiTm1RMU5qbGlZV05qWWprMiIsInQiOiI2Rllhb2Y5Y0t5aTI4YitBXC9RUTBjYTZjR3FVRFFlNGxEZUFaT2lTT1BiRXVTY2JmVlQzcDRzMFRCSGQwcmhUenA2RDBtR0U4dWxGOUxVdCtwT3l0QmdlQlVXR2k3QXZ3dTVsY2JmWjErODhqblhNckZnanRrc01lOXVoN25xS3QifQ%3D%3D" target="_blank">Learn More and Apply Today</a>!<br />\n<br />\n<strong>Registration Deadline: August 7\, 2020</strong><br />\n<br />\nIt may not be the best time to travel internationally\, but it is the best time to go global! Expand your business into the second-largest market for U.S. exports with help from Automation Alley.<br />\nJoin Automation Alley&#39\;s virtual trade mission to Mexico\, a nation with a strong demand for the following Michigan-made products\, services and technologies:\n<ul>\n	<li>Aerospace and defense</li>\n	<li>Automotive components and supplies</li>\n	<li>Design\, engineering and advanced manufacturing services</li>\n	<li>Environmental technologies</li>\n	<li>Health care and medical</li>\n	<li>IT and information communication technologies</li>\n</ul>\nWhy Participate?\n\n<ul>\n	<li>Attend virtual matchmaking meetings with potential buyers and end users of your products\, services and technologies</li>\n	<li>Meet the key players you need to know to be successful in Mexico</li>\n	<li>Automation Alley introduces small and medium-size businesses to high-growth markets and opportunities to expand abroad</li>\n</ul>\nThis trade mission is made possible in partnership with the <strong>MEDC</strong>. Be sure to ask about <a href="https://www.michiganbusiness.org/services/international-trade/mistep/?utm_source=newsletter&amp\;utm_medium=email&amp\;utm_campaign=medc-trade-webinar-07-27-2020&amp\;mkt_tok=eyJpIjoiTm1RMU5qbGlZV05qWWprMiIsInQiOiI2Rllhb2Y5Y0t5aTI4YitBXC9RUTBjYTZjR3FVRFFlNGxEZUFaT2lTT1BiRXVTY2JmVlQzcDRzMFRCSGQwcmhUenA2RDBtR0U4dWxGOUxVdCtwT3l0QmdlQlVXR2k3QXZ3dTVsY2JmWjErODhqblhNckZnanRrc01lOXVoN25xS3QifQ%3D%3D" target="_blank">Michigan&#39\;s State Trade Expansion Program (MI-STEP)</a>\, which may qualify your company to receive up to a 50 percent reimbursement for the costs of participating in this mission.<br />\n<br />\n<strong>Participation is limited to 10 companies and the deadline to register is August 7\, 2020.</strong><br />\n<br />\n&nbsp\;
LOCATION:Webinar by Automation Alley in partnership with MEDC
UID:e.3222.1906
SEQUENCE:3
DTSTAMP:20260424T073548Z
URL:https://www.apacc.net/events/details/automation-alley-s-virtual-trade-mission-to-mexico-1906
END:VEVENT

END:VCALENDAR
