BEGIN:VCALENDAR
VERSION:2.0
PRODID:-//ChamberMaster//Event Calendar 2.0//EN
METHOD:PUBLISH
X-PUBLISHED-TTL:P3D
REFRESH-INTERVAL:P3D
CALSCALE:GREGORIAN
BEGIN:VEVENT
DTSTART:20200624T153000Z
DTEND:20200624T173000Z
X-MICROSOFT-CDO-ALLDAYEVENT:FALSE
SUMMARY:Automation Alley Presents Doing Business in Mexico
DESCRIPTION:COVID-19 UPDATE: Due to the ongoing threat of coronavirus\, Automation Alley has made the decision to move this event to June 24. If at that time we are unable to safely meet in person\, we will move to a virtual format and you will receive an email with a link to view the livestream. Our goal is to ensure health and safety while providing valuable experiences for our members and the business community. If you have any questions\, please contact info@automationalley.com.\n\n\n\nExpand your business to Mexico\, the world's second-largest market for U.S. exports. Join Automation Alley and a group of international business experts for a discussion on how American companies can succeed in Mexico. Hear first-hand accounts from business owners about their experiences in Mexico and discuss export challenges\, opportunities and the support that is available to Michigan companies\, including Automation Alley's Trade Mission to Mexico Sept. 20-25.\n\n\n\nThis event is supported by the Michigan Economic Development Corporation.\n\n\n\nFor more information\, please click here.
X-ALT-DESC;FMTTYPE=text/html:COVID-19 UPDATE: Due to the ongoing threat of coronavirus\, Automation Alley has made the decision to move this event to June 24. If at that time we are unable to safely meet in person\, we will move to a virtual format and you will receive an email with a link to view the livestream. Our goal is to ensure health and safety while providing valuable experiences for our members and the business community. If you have any questions\, please contact info@automationalley.com.<br />\n<br />\nExpand your business to Mexico\, the world&#39\;s second-largest market for U.S. exports. Join Automation Alley and a group of international business experts for a discussion on how American companies can succeed in Mexico. Hear first-hand accounts from business owners about their experiences in Mexico and discuss export challenges\, opportunities and the support that is available to Michigan companies\, including Automation Alley&#39\;s Trade Mission to Mexico Sept. 20-25.<br />\n<br />\nThis event is supported by the Michigan Economic Development Corporation.<br />\n<br />\n<a href="http://members.automationalley.com/events/details/doing-business-in-mexico-14444" target="_blank">For more information\, please click here</a>.
LOCATION:
UID:e.3222.1804
SEQUENCE:3
DTSTAMP:20260424T140008Z
URL:https://www.apacc.net/events/details/automation-alley-presents-doing-business-in-mexico-1804
END:VEVENT

END:VCALENDAR
