BEGIN:VCALENDAR
VERSION:2.0
PRODID:-//ChamberMaster//Event Calendar 2.0//EN
METHOD:PUBLISH
X-PUBLISHED-TTL:P3D
REFRESH-INTERVAL:P3D
CALSCALE:GREGORIAN
BEGIN:VEVENT
DTSTART;VALUE=DATE:20250908
DTEND;VALUE=DATE:20250909
TRANSP:TRANSPARENT
X-MICROSOFT-CDO-ALLDAYEVENT:TRUE
SUMMARY:Association of Chinese Americans Scholarship Program 2025/2026
DESCRIPTION:The Association of Chinese Americans (ACA) is proud to announce that applications are now open for our 42nd Annual High School and College Students Achievement Scholarship Program!\n\n\n\nThis prestigious scholarship honors outstanding local youth who demonstrate academic excellence\, leadership\, and a commitment to Asian culture or service to the Asian American community.\n\n\n\n  This year\, ACA will award:\n\n  17 scholarships to high school students\n\n  6 scholarships to college students\n\n\n\nWhether you're a student who excels in academics\, celebrates Asian culture\, or contributes meaningfully to the Asian American community   this opportunity is for you.\n\n\n\n  Application Deadline: September 8\, 2025\n\n  Learn more and apply now: Visit this page\n\n\n\nLet's invest in our next generation of leaders. Please share this opportunity with students\, families\, schools\, and community partners!\n\n\n\nThank you for helping us uplift and inspire the leaders of tomorrow!
X-ALT-DESC;FMTTYPE=text/html:<p style="background-color: rgb(255\, 255\, 255)\;">The Association of Chinese Americans (ACA) is proud to announce that applications are now open for our 42nd Annual High School and College Students Achievement Scholarship Program!<br />\n<br />\nThis prestigious scholarship honors outstanding local youth who demonstrate academic excellence\, leadership\, and a commitment to Asian culture or service to the Asian American community.<br />\n<br />\n&#10024\; This year\, ACA will award:<br />\n&#128218\; 17 scholarships to high school students<br />\n&#127891\; 6 scholarships to college students<br />\n<br />\nWhether you&rsquo\;re a student who excels in academics\, celebrates Asian culture\, or contributes meaningfully to the Asian American community &mdash\; this opportunity is for you.<br />\n<br />\n&#128197\; Application Deadline: September 8\, 2025<br />\n&#128279\; Learn more and apply now: <a href="https://acadetroit.org/programs/acascholarships/scholarship-2025-2026/" target="_blank">Visit this page</a><br />\n<br />\nLet&rsquo\;s invest in our next generation of leaders. Please share this opportunity with students\, families\, schools\, and community partners!<br />\n<br />\nThank you for helping us uplift and inspire the leaders of tomorrow!</p>\n
LOCATION:
UID:e.3222.2990
SEQUENCE:3
DTSTAMP:20260425T222356Z
URL:https://www.apacc.net/events/details/association-of-chinese-americans-scholarship-program-2025-2026-2990
END:VEVENT

END:VCALENDAR
