BEGIN:VCALENDAR
VERSION:2.0
PRODID:-//ChamberMaster//Event Calendar 2.0//EN
METHOD:PUBLISH
X-PUBLISHED-TTL:P3D
REFRESH-INTERVAL:P3D
CALSCALE:GREGORIAN
BEGIN:VEVENT
DTSTART:20200827T210000Z
DTEND:20200827T230000Z
X-MICROSOFT-CDO-ALLDAYEVENT:FALSE
SUMMARY:Asian Business Association 7th Annual Women Business Pioneers Symposium
DESCRIPTION:Continuing the successful theme in the past 6 years\, the "Women Business Pioneers Symposium" is a high-profile event that involves successful business women who are notable within the Asian American community. Meet these women executives and learn the key skills to succeeding in today's marketplace. We are featuring 3 fabulous boss ladies who have demonstrated entrepreneurial spirit while rising to the top in each of their unique industries. Join us for a networking and panel discussion with these remarkable leaders.\n\n\n\nFeatured Speakers:\n\n\n\nAmy Liu\, Founder and CEO\, Tower 28\n\nJing Gao\, Founder and CEO\, Fly by Jing\n\nLidia Yan\, Co-Founder and CEO\, NEXT\n\n\n\nFeatured moderator:\n\nVanessa Dew\, Co-Founder and CSO\, Health-Ade Kombucha
X-ALT-DESC;FMTTYPE=text/html:Continuing the successful theme in the past 6 years\, the &ldquo\;<strong>Women Business Pioneers Symposium</strong>&rdquo\; is a high-profile event that involves successful business women who are notable within the Asian American community. Meet these women executives and learn the key skills to succeeding in today&rsquo\;s marketplace. We are featuring 3 fabulous boss ladies who have demonstrated entrepreneurial spirit while rising to the top in each of their unique industries. Join us for a networking and panel discussion with these remarkable leaders.<br />\n<br />\n<strong>Featured Speakers</strong>:<br />\n<br />\n<strong>Amy Liu</strong>\, Founder and CEO\, Tower 28<br />\n<strong>Jing Gao</strong>\, Founder and CEO\, Fly by Jing<br />\n<strong>Lidia Yan</strong>\, Co-Founder and CEO\, NEXT<br />\n<br />\n<strong>Featured moderator</strong>:<br />\n<strong>Vanessa Dew</strong>\, Co-Founder and CSO\, Health-Ade Kombucha
LOCATION:Virtual Convention by ABA
UID:e.3222.1930
SEQUENCE:3
DTSTAMP:20260423T232052Z
URL:https://www.apacc.net/events/details/asian-business-association-7th-annual-women-business-pioneers-symposium-1930
END:VEVENT

END:VCALENDAR
