BEGIN:VCALENDAR
VERSION:2.0
PRODID:-//ChamberMaster//Event Calendar 2.0//EN
METHOD:PUBLISH
X-PUBLISHED-TTL:P3D
REFRESH-INTERVAL:P3D
CALSCALE:GREGORIAN
BEGIN:VEVENT
DTSTART:20191206T160000Z
DTEND:20191206T173000Z
X-MICROSOFT-CDO-ALLDAYEVENT:FALSE
SUMMARY:Art Therapy Open Studio
DESCRIPTION:Art therapy is based on the idea that creating can be healing. Guided by an art therapist\, cancer survivors and their families will use drawing\, painting\, and other types of art to help manage the emotional or mental side effects that may come from a cancer diagnosis and/or treatment.\n\n\n\nThis program is free for cancer patients and their family or caregivers.
X-ALT-DESC;FMTTYPE=text/html:Art therapy is based on the idea that creating can be healing. Guided by an art therapist\, cancer survivors and their families will use drawing\, painting\, and other types of art to help manage the emotional or mental side effects that may come from a cancer diagnosis and/or treatment.<br />\n<br />\nThis program is free for cancer patients and their family or caregivers.
LOCATION:Henry Ford West Bloomfield Hospital 6777 W. Maple West Bloomfield\, MI 48322 View A Map
UID:e.3222.1566
SEQUENCE:3
DTSTAMP:20260425T153007Z
URL:https://www.apacc.net/events/details/art-therapy-open-studio-1566
END:VEVENT

END:VCALENDAR
