BEGIN:VCALENDAR
VERSION:2.0
PRODID:-//ChamberMaster//Event Calendar 2.0//EN
METHOD:PUBLISH
X-PUBLISHED-TTL:P3D
REFRESH-INTERVAL:P3D
CALSCALE:GREGORIAN
BEGIN:VEVENT
DTSTART:20200615T200000Z
DTEND:20200615T210000Z
X-MICROSOFT-CDO-ALLDAYEVENT:FALSE
SUMMARY:APACC - Virtual Members Check-In Happy Hour
DESCRIPTION:Please join us for a Members to Members connect virtual networking happy hour. One of the best parts about APACC is the people\, and right now\, it's more important than ever to stay connected to one another. Let's chat\, listen and learn from one another.\n\n\n\nSo grab a drink\, a snack\, and let's connect!\n\n\n\nThe Zoom link\, password\, and instructions will be emailed out to registrants before the event. The Zoom link is password protected.
X-ALT-DESC;FMTTYPE=text/html:Please join us for a Members to Members connect virtual networking happy hour. One of the best parts about APACC is the people\, and right now\, it&rsquo\;s more important than ever to stay connected to one another. Let&#39\;s chat\, listen and learn from one another.<br />\n<br />\nSo grab a drink\, a snack\, and let&#39\;s connect!<br />\n<br />\nThe Zoom link\, password\, and instructions will be emailed out to registrants before the event. The Zoom link is password protected.
LOCATION:APACC's Zoom Webinar
UID:e.3222.1796
SEQUENCE:3
DTSTAMP:20260424T140028Z
URL:https://www.apacc.net/events/details/apacc-virtual-members-check-in-happy-hour-1796
END:VEVENT

END:VCALENDAR
