BEGIN:VCALENDAR
VERSION:2.0
PRODID:-//ChamberMaster//Event Calendar 2.0//EN
METHOD:PUBLISH
X-PUBLISHED-TTL:P3D
REFRESH-INTERVAL:P3D
CALSCALE:GREGORIAN
BEGIN:VEVENT
DTSTART:20211215T210000Z
DTEND:20211215T223000Z
X-MICROSOFT-CDO-ALLDAYEVENT:FALSE
SUMMARY:APACC's Holiday Virtual Happy Hour
DESCRIPTION:Come join us for an hour of networking merriment with one another. Let's have some fun time answering trivia questions on Asian countries to win Gift Cards and a surprise gift basket to top it off!  \n\n\n\nSo make your favorite cocktail\, relax and join us for this Virtual Happy Hour. Let's set off the Holiday mood by getting to meet and make new acquaintances this holiday season. \n\n\n\n* APACC's Board of Directors are encouraged to join us but will not be eligible for the prizes.
X-ALT-DESC;FMTTYPE=text/html:<br />\nCome join us for an hour of networking merriment with one another. Let&#39\;s have some fun time answering trivia questions on Asian countries to win Gift Cards and a surprise gift basket to top it off!&nbsp\;&nbsp\;<br />\n<br />\nSo make your favorite cocktail\, relax and join us for this Virtual Happy Hour.&nbsp\;Let&#39\;s set off the Holiday mood by getting to meet and make new acquaintances this holiday season.&nbsp\;<br />\n<br />\n<strong>*</strong> <strong>APACC&#39\;s Board of Directors are encouraged to join us but will not be eligible for the prizes.</strong>
LOCATION:Virtual Happy Hour by APACC
UID:e.3222.2246
SEQUENCE:3
DTSTAMP:20260425T214015Z
URL:https://www.apacc.net/events/details/apacc-s-holiday-virtual-happy-hour-2246
END:VEVENT

END:VCALENDAR
