BEGIN:VCALENDAR
VERSION:2.0
PRODID:-//ChamberMaster//Event Calendar 2.0//EN
METHOD:PUBLISH
X-PUBLISHED-TTL:P3D
REFRESH-INTERVAL:P3D
CALSCALE:GREGORIAN
BEGIN:VEVENT
DTSTART:20210323T140000Z
DTEND:20210323T150000Z
X-MICROSOFT-CDO-ALLDAYEVENT:FALSE
SUMMARY:APACC Orientation/Networking 2021
DESCRIPTION:Please join APACC at our Orientation/Networking to learn about how to Maximize your Membership. This Orientation is especially crucial to New Members as you will be able to network with current and prospective members while hearing how the Chamber can help grow your business.\n\n\n\nCome to learn more about:\n\n	Benefits offered from your membership\n	How to set up proper profile to make your company more visible on the website\n	How to navigate inside the Member Information Center (MIC)
X-ALT-DESC;FMTTYPE=text/html:<br />\nPlease join <strong>APACC</strong> at our <strong>Orientation/Networking</strong>&nbsp\;to learn about how to Maximize your Membership. This Orientation is especially crucial to <strong>New Members</strong> as you will be able to network with&nbsp\;current and prospective members while hearing how the&nbsp\;Chamber can help grow your business.<br />\n<br />\n<strong>Come to learn more about</strong>:\n<ul>\n	<li>Benefits offered from your membership</li>\n	<li>How to set up proper profile to make your company more visible on the website</li>\n	<li>How to navigate inside the Member Information Center (MIC)</li>\n</ul>\n
LOCATION:Virtual
UID:e.3222.2059
SEQUENCE:3
DTSTAMP:20260422T142255Z
URL:https://www.apacc.net/events/details/apacc-orientation-networking-2021-2059
END:VEVENT

END:VCALENDAR
