BEGIN:VCALENDAR
VERSION:2.0
PRODID:-//ChamberMaster//Event Calendar 2.0//EN
METHOD:PUBLISH
X-PUBLISHED-TTL:P3D
REFRESH-INTERVAL:P3D
CALSCALE:GREGORIAN
BEGIN:VEVENT
DTSTART:20191204T133000Z
DTEND:20191204T150000Z
X-MICROSOFT-CDO-ALLDAYEVENT:FALSE
SUMMARY:APACC Orientation December 2019
DESCRIPTION:Please join APACC at our Orientation to learn about who we are and what we do. Mingle with current and prospective members while hearing how the Chamber can help grow your business.\n\n\n\nJoin us for some bagels\, coffee and tea and also to meet our new Executive Director\, Ms. Duc Abrahamson!
X-ALT-DESC;FMTTYPE=text/html:Please join APACC at our Orientation to learn about who we are and what we do.&nbsp\;Mingle with current and prospective members while hearing how the&nbsp\;Chamber can help grow your business.<br />\n<br />\nJoin us for some bagels\, coffee and tea and also to meet our new Executive Director\, Ms. Duc Abrahamson!
LOCATION:APACC Office 27055 Orchard Lake Road Bldg M-Rm 208 Farmington Hills\, MI 48334 https://goo.gl/maps/wceoNMBrmR7q13bq8
UID:e.3222.1547
SEQUENCE:3
DTSTAMP:20260423T143535Z
URL:https://www.apacc.net/events/details/apacc-orientation-december-2019-1547
END:VEVENT

END:VCALENDAR
