BEGIN:VCALENDAR
VERSION:2.0
PRODID:-//ChamberMaster//Event Calendar 2.0//EN
METHOD:PUBLISH
X-PUBLISHED-TTL:P3D
REFRESH-INTERVAL:P3D
CALSCALE:GREGORIAN
BEGIN:VEVENT
DTSTART:20180308T143000Z
DTEND:20180308T203000Z
X-MICROSOFT-CDO-ALLDAYEVENT:FALSE
SUMMARY:APACC 15th Annual East-West Business Connection "Embracing Emerging Technologies to Diversify Your Business"
DESCRIPTION:This global business networking event is expecting over 350 attendees\, comprised of Asian and U.S. businesses and minority business enterprises (W/MBEs) throughout the Midwest.  With a focus on opportunities for minority-businesses\, followed by a supplier exhibition and the popular "Meet the Buyer" Showcase\, suppliers will have an opportunity to meet one-on-one with over 40 corporate buyers from a variety of industries based on specific procurement needs. \n\n\n\nRoom Block for March 7\, 2016 - March 9\, 2016 at The Edward Hotel cut off on February 5\, 2017! Group Code 1366. $99/room.\n\n\n\nBook your room today at: www.hotel-dearborn.com.
X-ALT-DESC;FMTTYPE=text/html:This global business networking event is expecting over 350 attendees\, comprised of Asian and U.S. businesses and minority business enterprises (W/MBEs) throughout the Midwest.&nbsp\; With a focus on opportunities for minority-businesses\, followed by a supplier exhibition and the popular &ldquo\;Meet the Buyer&rdquo\; Showcase\, suppliers will have an opportunity to meet one-on-one with over 40 corporate buyers from a variety of industries based on specific procurement needs.&nbsp\;<br />\n<br />\nRoom Block for March 7\, 2016 - March 9\, 2016 at The Edward Hotel cut off on February 5\, 2017! Group Code 1366. $99/room.<br />\n<br />\nBook your room today at: <a href="http://www.edwardhotel.us/en-us">www.hotel-dearborn.com</a>.&nbsp\;
LOCATION:Edward Village\, 600 Town Center Drive\, Dearborn\, MI 48126
UID:e.3222.4
SEQUENCE:3
DTSTAMP:20260421T083053Z
URL:https://www.apacc.net/events/details/apacc-15th-annual-east-west-business-connection-embracing-emerging-technologies-to-diversify-your-business-4
END:VEVENT

END:VCALENDAR
