BEGIN:VCALENDAR
VERSION:2.0
PRODID:-//ChamberMaster//Event Calendar 2.0//EN
METHOD:PUBLISH
X-PUBLISHED-TTL:P3D
REFRESH-INTERVAL:P3D
CALSCALE:GREGORIAN
BEGIN:VEVENT
DTSTART:20250813T150000Z
DTEND:20250813T160000Z
X-MICROSOFT-CDO-ALLDAYEVENT:FALSE
SUMMARY:AI Powered Marketing Strategies for Small Businesses
DESCRIPTION:Ready to unlock the power of AI to grow your business faster with less time and effort?\n\nJoin us for an action-packed webinar designed specifically for small business owners and marketers who want to stay ahead of the curve.\n\nWhat You'll Learn\n\nIn this live session\, we'll walk through real-world\, easy-to-implement strategies using AI tools that save time\, improve targeting\, and boost marketing results.  Whether you're brand new to AI or already experimenting\, this session will help you build a smarter\, more scalable marketing strategy.\n\nKey Learnings/Outcomes\n\n\n	How AI can simplify content creation\, customer segmentation\, and email automation\n	AI Tools that make marketing faster and more effective\n	Real-life case studies of small businesses using AI to save hours and drive growth\n	Live demos and exercises you can follow along with no tech expertise required
X-ALT-DESC;FMTTYPE=text/html:<p class="xxmsonormal">Ready to unlock the power of AI to grow your business faster&mdash\;with less time and effort?</p>\n\n<p class="xxmsonormal">Join us for an action-packed webinar designed specifically for small business owners and marketers who want to stay ahead of the curve.</p>\n\n<p class="xxmsonormal"><strong>What You&#39\;ll Learn</strong></p>\n\n<p class="xxmsonormal">In this live session\, we&rsquo\;ll walk through real-world\, easy-to-implement strategies using AI tools that save time\, improve targeting\, and boost marketing results.&nbsp\; Whether you&#39\;re brand new to AI or already experimenting\, this session will help you build a smarter\, more scalable marketing strategy.</p>\n\n<p class="xxmsonormal"><strong>Key Learnings/Outcomes</strong></p>\n\n<ul>\n	<li class="xxmsonormal">How AI can simplify content creation\, customer segmentation\, and email automation</li>\n	<li class="xxmsonormal">AI Tools that make marketing faster and more effective</li>\n	<li class="xxmsonormal">Real-life case studies of small businesses using AI to save hours and drive growth</li>\n	<li class="xxmsonormal">Live demos and exercises you can follow along with&mdash\;no tech expertise required</li>\n</ul>\n\n<p class="xxmsonormal">&nbsp\;</p>\n
LOCATION:Webinar
UID:e.3222.2993
SEQUENCE:3
DTSTAMP:20260425T204048Z
URL:https://www.apacc.net/events/details/ai-powered-marketing-strategies-for-small-businesses-2993
END:VEVENT

END:VCALENDAR
