BEGIN:VCALENDAR
VERSION:2.0
PRODID:-//ChamberMaster//Event Calendar 2.0//EN
METHOD:PUBLISH
X-PUBLISHED-TTL:P3D
REFRESH-INTERVAL:P3D
CALSCALE:GREGORIAN
BEGIN:VEVENT
DTSTART:20200818T150000Z
DTEND:20200818T160000Z
X-MICROSOFT-CDO-ALLDAYEVENT:FALSE
SUMMARY:Actualizing Your International Business Dreams in a Digital World
DESCRIPTION:Join Ken Yang\, CEO\, Korea Business Services\, and MEDC's South Korea trade center representative\, and other experts as they discuss ways to increase your global business development in the face of post COVID-19's megatrends. This webinar is the first session in a series of six bi-weekly practical discussions led by IBG's Global Business Practitioners. Sessions are free but require advance registration.\n\n\n\nIn dialogue:\n\n	Ken Yang\, CEO\, Korea Business Services\, Inc\, Seoul\n	Dr Linda von Delhaes-Guenther\, CEO\, AHP International GmbH & Co\, Berlin\n	Fabio Yukio Yamada\, CEO\, TradeBrz International Consultants\, Sao Paulo
X-ALT-DESC;FMTTYPE=text/html:Join Ken Yang\, CEO\, Korea Business Services\, and MEDC&rsquo\;s South Korea trade center representative\, and other experts as they discuss ways to increase your global business development in the face of post COVID-19&rsquo\;s megatrends. This webinar is the first session in a series of six bi-weekly practical discussions led by IBG&rsquo\;s Global Business Practitioners. Sessions are free but require advance registration.<br />\n<br />\nIn dialogue:\n<ul>\n	<li>Ken Yang\, CEO\, Korea Business Services\, Inc\, Seoul</li>\n	<li>Dr Linda von Delhaes-Guenther\, CEO\, AHP International GmbH &amp\; Co\, Berlin</li>\n	<li>Fabio Yukio Yamada\, CEO\, TradeBrz International Consultants\, Sao Paulo</li>\n</ul>\n
LOCATION:Webinar
UID:e.3222.1927
SEQUENCE:3
DTSTAMP:20260422T052232Z
URL:https://www.apacc.net/events/details/actualizing-your-international-business-dreams-in-a-digital-world-1927
END:VEVENT

END:VCALENDAR
