BEGIN:VCALENDAR
VERSION:2.0
PRODID:-//ChamberMaster//Event Calendar 2.0//EN
METHOD:PUBLISH
X-PUBLISHED-TTL:P3D
REFRESH-INTERVAL:P3D
CALSCALE:GREGORIAN
BEGIN:VEVENT
DTSTART:20210318T213000Z
DTEND:20210318T220000Z
X-MICROSOFT-CDO-ALLDAYEVENT:FALSE
SUMMARY:Accounting Careers Information Session
DESCRIPTION:Are you thinking of a career in accounting? Join this session to find out how Walsh can provide you resources and opportunities for your accounting career. This session will focus on: The variety of accounting careers available and where an accounting degree can lead you Why an accounting license is important\, and what do you need to become a CPA or CMA The Walsh opportunities to prepare you in landing your accounting job Internships and leadership programs The Walsh experience - hear from students and alumni How to get started in your accounting program
X-ALT-DESC;FMTTYPE=text/html:Are you thinking of a career in accounting? Join this session to find out how Walsh can provide you resources and opportunities for your accounting career. This session will focus on: The variety of accounting careers available and where an accounting degree can lead you Why an accounting license is important\, and what do you need to become a CPA or CMA The Walsh opportunities to prepare you in landing your accounting job Internships and leadership programs The Walsh experience - hear from students and alumni How to get started in your accounting program
LOCATION:Virtual
UID:e.3222.2079
SEQUENCE:3
DTSTAMP:20260425T034723Z
URL:https://www.apacc.net/events/details/accounting-careers-information-session-2079
END:VEVENT

END:VCALENDAR
