BEGIN:VCALENDAR
VERSION:2.0
PRODID:-//ChamberMaster//Event Calendar 2.0//EN
METHOD:PUBLISH
X-PUBLISHED-TTL:P3D
REFRESH-INTERVAL:P3D
CALSCALE:GREGORIAN
BEGIN:VEVENT
DTSTART:20210211T000000Z
DTEND:20210211T020000Z
X-MICROSOFT-CDO-ALLDAYEVENT:FALSE
SUMMARY:ACA’s Lunar New Year Celebration
DESCRIPTION:It is an evening to usher in the Lunar New Year with the ACA community and its partners. The night is a celebration of the most important Asian holiday and a unique opportunity to experience Asian Pacific American culture. The event includes great performances and greetings from the community.
X-ALT-DESC;FMTTYPE=text/html:<br />\nIt is an evening to usher in the Lunar New Year with the ACA community and its partners. The night is a celebration of the most important Asian holiday and a unique opportunity to experience Asian Pacific American culture. The event includes great performances and greetings from the community.
LOCATION:Virtually via Zoom
UID:e.3222.2051
SEQUENCE:3
DTSTAMP:20260424T204854Z
URL:https://www.apacc.net/events/details/aca-s-lunar-new-year-celebration-2051
END:VEVENT

END:VCALENDAR
