BEGIN:VCALENDAR
VERSION:2.0
PRODID:-//ChamberMaster//Event Calendar 2.0//EN
METHOD:PUBLISH
X-PUBLISHED-TTL:P3D
REFRESH-INTERVAL:P3D
CALSCALE:GREGORIAN
BEGIN:VEVENT
DTSTART:20200723T230000Z
DTEND:20200724T011500Z
X-MICROSOFT-CDO-ALLDAYEVENT:FALSE
SUMMARY:ACA - B3 Leadership Summit
DESCRIPTION:Please join the Association of Chinese Americans (ACA) for the B3 Leadership Summit: "Crisis\, Challenges\, and Change   Creating a Path to a New Normal" via Zoom on July 16th and 23rd. This virtual two-night summit includes a thought-starter presentation and panel discussion followed by Resume Coaching and Advisory Chat one-on-one sessions. With this program\, there is a unique opportunity to nurture the extraordinary professionals in our community.\n\n\n\nFor more information\, please click here. \n\n\n\nThursday\, July 16\, 2020 - 7:00 p.m. - 9:00 p.m.  - Thought-starter Presentation - Panel Discussion\n\n\n\nThursday\, July 23rd\, 2020 - 7:00 p.m.   9:15 p.m.  - Career Planning Presentation - Resume Coaching Sessions - Advisory Chat Sessions\n\n\n\nThe program on July 16th includes an inspirational presentation with a thought starter\, and a panel with a moderator and four speakers. You will come to know how businesses are surviving the COVID-19 Pandemic and finding their way to succeed in the new normal.\n\n\n\nThe program on July 23rd will start with a presentation on Career Planning\, followed with private Resume Coaching and Advisory Chat sessions. The coaches and advisors will help the participants set and achieve career goals and pursue career opportunities. And you'll get a chance to interact with your peers and friends who are on their journey to scale their professional as well as personal development   through this virtual summit! REGISTER TODAY!
X-ALT-DESC;FMTTYPE=text/html:Please join the Association of Chinese Americans (ACA) for the B3 Leadership Summit: &quot\;Crisis\, Challenges\, and Change &ndash\; Creating a Path to a New Normal&quot\; via Zoom on July 16th and 23rd. This virtual two-night summit includes a thought-starter presentation and panel discussion followed by Resume Coaching and Advisory Chat one-on-one sessions. With this program\, there is a unique opportunity to nurture the extraordinary professionals in our community.<br />\n<br />\nFor more information\, <a href="https://myemail.constantcontact.com/Virtual-B3-Leadership-Summit-Coming---Register-Now-.html?soid=1102120765649&amp\;aid=nrQGBuzXaCY" target="_blank">please click here</a>.&nbsp\;<br />\n<br />\n<strong>Thursday\, July 16\, 2020 - 7:00 p.m. - 9:00 p.m</strong>.&nbsp\; - Thought-starter Presentation - Panel Discussion<br />\n<br />\n<strong>Thursday\,&nbsp\;July 23rd\, 2020 - 7:00 p.m. &ndash\; 9:15 p.m</strong>.&nbsp\; - Career Planning Presentation - Resume Coaching Sessions - Advisory Chat Sessions<br />\n<br />\nThe program on July 16th includes an inspirational presentation with a thought starter\, and a panel with a moderator and four speakers. You will come to know how businesses are surviving the COVID-19 Pandemic and finding their way to succeed in the new normal.<br />\n<br />\nThe program on July 23rd will start with a presentation on Career Planning\, followed with private Resume Coaching and Advisory Chat sessions. The coaches and advisors will help the participants set and achieve career goals and pursue career opportunities. And you&rsquo\;ll get a chance to interact with your peers and friends who are on their journey to scale their professional as well as personal development &ndash\; through this virtual summit! <a href="https://www.eventbrite.com/e/b3-leadership-summit-tickets-112358766094" target="_blank">REGISTER TODAY</a>!
LOCATION:Virtual event by ACA
UID:e.3222.1875
SEQUENCE:3
DTSTAMP:20260420T094019Z
URL:https://www.apacc.net/events/details/aca-b3-leadership-summit-1875
END:VEVENT

END:VCALENDAR
