BEGIN:VCALENDAR
VERSION:2.0
PRODID:-//ChamberMaster//Event Calendar 2.0//EN
METHOD:PUBLISH
X-PUBLISHED-TTL:P3D
REFRESH-INTERVAL:P3D
CALSCALE:GREGORIAN
BEGIN:VEVENT
DTSTART:20201024T180000Z
DTEND:20201024T193000Z
X-MICROSOFT-CDO-ALLDAYEVENT:FALSE
SUMMARY:ACA 2020 Annual Gala Honoring Our Heroes - Courage Across Communities
DESCRIPTION:The Association of Chinese Americans\, Inc. (ACA) is proud to announce the organization's 48th Anniversary Gala to be held virtually on Saturday\, October 24\, 2020. via Zoom.\n\n\n\nThe Anniversary Gala is ACA's signature annual gathering to celebrate the year's accomplishments and refuel to strive for future success. It is a virtual celebratory featuring state and city officials\, cultural performances\, and recognition of our outstanding community partners and sponsors. It is also an opportunity for the community\, supporters\, and friends with an interest in working together to give back to our community in the areas of education\, healthcare and cultural development. ACA demonstrates the power of collaboration and support to help engage people from our communities in the Metro Detroit area.\n\n\n\nWHAT MAKES THIS GALA CELEBRATION TRULY SPECIAL?\n\n\n\nThe event will be a celebration of the contributions Asian Pacific Americans have made to people in the State of Michigan during this pandemic. In light of the COVID-19 pandemic and the difficult time we are currently facing\, it is more important than ever to acknowledge our community members for their perseverance\, resilience and hardwork. The theme of our Gala is "Honoring Our Heroes   Courage Across Communities" and we would like to recognize community members who have worked tirelessly since March to bring relief and remedy to those adversely affected by this virus.\n\n\n\nView Sponsorship PDF
X-ALT-DESC;FMTTYPE=text/html:<br />\nThe Association of Chinese Americans\, Inc. (ACA) is proud to announce the organization&rsquo\;s 48th Anniversary Gala to be held virtually on Saturday\, October 24\, 2020. via Zoom.<br />\n<br />\nThe Anniversary Gala is ACA&#39\;s signature annual gathering to celebrate the year&#39\;s accomplishments and refuel to strive for future success. It is a virtual celebratory featuring state and city officials\, cultural performances\, and recognition of our outstanding community partners and sponsors. It is also an opportunity for the community\, supporters\, and friends with an interest in working together to give back to our community in the areas of education\, healthcare and cultural development. ACA demonstrates the power of collaboration and support to help engage people from our communities in the Metro Detroit area.<br />\n<br />\nWHAT MAKES THIS GALA CELEBRATION TRULY SPECIAL?<br />\n<br />\nThe event will be a celebration of the contributions Asian Pacific Americans have made to people in the State of Michigan during this pandemic. In light of the COVID-19 pandemic and the difficult time we are currently facing\, it is more important than ever to acknowledge our community members for their perseverance\, resilience and hardwork. The theme of our Gala is &quot\;Honoring Our Heroes &ndash\; Courage Across Communities&quot\; and we would like to recognize community members who have worked tirelessly since March to bring relief and remedy to those adversely affected by this virus.<br />\n<br />\n<a href="https://chambermaster.blob.core.windows.net/userfiles/UserFiles/chambers/3222/File/ACASponsorshipProposal2021.pdf" target="_blank">View Sponsorship PDF</a>
LOCATION:Virtual event by ACA
UID:e.3222.1953
SEQUENCE:3
DTSTAMP:20260422T234021Z
URL:https://www.apacc.net/events/details/aca-2020-annual-gala-honoring-our-heroes-courage-across-communities-1953
END:VEVENT

END:VCALENDAR
