BEGIN:VCALENDAR
VERSION:2.0
PRODID:-//ChamberMaster//Event Calendar 2.0//EN
METHOD:PUBLISH
X-PUBLISHED-TTL:P3D
REFRESH-INTERVAL:P3D
CALSCALE:GREGORIAN
BEGIN:VEVENT
DTSTART:20200709T150000Z
DTEND:20200709T160000Z
X-MICROSOFT-CDO-ALLDAYEVENT:FALSE
SUMMARY:A 360° Perspective on Your Business
DESCRIPTION:Coronavirus-Focused Virtual Business Workshops Among Several Offered by Oakland County Small Business Team\n\n\n\nWhen everything is important all the time\, the question becomes "what do we focus on now?" In this workshop\, you'll be introduced to a suite of visual tools to help you quickly evaluate where you're at with your business and what areas to focus on if you want to grow the company.\n\n\n\nThis workshop is designed to help existing businesses.
X-ALT-DESC;FMTTYPE=text/html:Coronavirus-Focused Virtual Business Workshops Among Several Offered by Oakland County Small Business Team<br />\n<br />\nWhen everything is important all the time\, the question becomes &ldquo\;what do we focus on now?&rdquo\; In this workshop\, you&rsquo\;ll be introduced to a suite of visual tools to help you quickly evaluate where you&rsquo\;re at with your business and what areas to focus on if you want to grow the company.<br />\n<br />\nThis workshop is designed to help existing businesses.
LOCATION:Webinar Offered by Oakland County Small Business Team
UID:e.3222.1839
SEQUENCE:3
DTSTAMP:20260420T094303Z
URL:https://www.apacc.net/events/details/a-360-perspective-on-your-business-1839
END:VEVENT

END:VCALENDAR
