BEGIN:VCALENDAR
VERSION:2.0
PRODID:-//ChamberMaster//Event Calendar 2.0//EN
METHOD:PUBLISH
X-PUBLISHED-TTL:P3D
REFRESH-INTERVAL:P3D
CALSCALE:GREGORIAN
BEGIN:VEVENT
DTSTART:20191214T010000Z
DTEND:20191214T030000Z
X-MICROSOFT-CDO-ALLDAYEVENT:FALSE
SUMMARY:3D Jazz Trio
DESCRIPTION:Led by drummer Sherrie Maricle\, this swingin' powerhouse trio plays original\, traditional\, and contemporary standards from all genres of music\, with their own unique style\, innovative arrangements\, and effervescent musical joy.
X-ALT-DESC;FMTTYPE=text/html:Led by drummer Sherrie Maricle\, this swingin&rsquo\; powerhouse trio plays original\, traditional\, and contemporary standards from all genres of music\, with their own unique style\, innovative arrangements\, and effervescent musical joy.
LOCATION:The CUBE 3711 Woodward Avenue Detroit\, MI 4/8201 View a Map
UID:e.3222.510
SEQUENCE:3
DTSTAMP:20260421T031145Z
URL:https://www.apacc.net/events/details/3d-jazz-trio-510
END:VEVENT

END:VCALENDAR
