BEGIN:VCALENDAR
VERSION:2.0
PRODID:-//ChamberMaster//Event Calendar 2.0//EN
METHOD:PUBLISH
X-PUBLISHED-TTL:P3D
REFRESH-INTERVAL:P3D
CALSCALE:GREGORIAN
BEGIN:VEVENT
DTSTART:20181129T121500Z
DTEND:20181129T190000Z
X-MICROSOFT-CDO-ALLDAYEVENT:FALSE
SUMMARY:31st Annual Labor\, Employment\, Benefits\, And Immigration Law Forum
DESCRIPTION:Butzel  Long's  Labor\,  Employment\,  Benefits\,  and  Immigration  Law  Forum  will  provide  attendees  with  information  regarding  a  wide  variety  of  labor\,  employment\,  employee  benefits\,  and  immigration  issues  facing  employers  today. \n\n\n\nOur  workshop  sessions  are  listed  below  -  please  review  them  carefully  as  you  will  be  asked  to  select  the  sessions  you  wish  to  attend  later  in  the  registration  process. \n\n\n\nThe  price  for  this  year's  seminar  is  $190. \n\n\n\nThe  program  is  pending  approval  for  both  4  (HR  (General))  recertification  credits  by  the  HR  Certification  Institute  as  well  as  4  PDCs  for  the  SHRM-CPSM  or  SHRM-SCPSM. \n\n\n\nFor  inquiries\,  please  contact  Nairi  Bagdasarian  at  bagdasarian@butzel.com. \n\n\n\nGeneral  Schedule \n\n\n\n7:15  am     8:00  am                    Registration \n\n8:00  am     8:15  am                    Welcome/Introduction \n\n8:15  am     8:30  am                    Break \n\n8:30  am     9:30  am                   Workshop  Session  1 \n\n9:30  am     9:45  am                   Break \n\n9:45  am     10:45  am               Workshop  Session  2 \n\n10:45  am     11:00  am             Break \n\n11:00  am     12:00  pm             Workshop  Session  3 \n\n12:00  pm     1:00  pm               Lunch \n\n1:00  pm       2:00  pm                 Lunchtime  Keynote
X-ALT-DESC;FMTTYPE=text/html:Butzel &#8203\;Long&rsquo\;s &#8203\;Labor\, &#8203\;Employment\, &#8203\;Benefits\, &#8203\;and &#8203\;Immigration &#8203\;Law &#8203\;Forum &#8203\;will &#8203\;provide &#8203\;attendees &#8203\;with &#8203\;information &#8203\;regarding &#8203\;a &#8203\;wide &#8203\;variety &#8203\;of &#8203\;labor\, &#8203\;employment\, &#8203\;employee &#8203\;benefits\, &#8203\;and &#8203\;immigration &#8203\;issues &#8203\;facing &#8203\;employers &#8203\;today.&nbsp\;<br />\n<br />\nOur &#8203\;workshop &#8203\;sessions &#8203\;are &#8203\;listed &#8203\;below &#8203\;- &#8203\;please &#8203\;review &#8203\;them &#8203\;carefully &#8203\;as &#8203\;you &#8203\;will &#8203\;be &#8203\;asked &#8203\;to &#8203\;select &#8203\;the &#8203\;sessions &#8203\;you &#8203\;wish &#8203\;to &#8203\;attend &#8203\;later &#8203\;in &#8203\;the &#8203\;registration &#8203\;process.&nbsp\;<br />\n<br />\nThe &#8203\;price &#8203\;for &#8203\;this &#8203\;year&#39\;s &#8203\;seminar &#8203\;is &#8203\;$190.&nbsp\;<br />\n<br />\nThe &#8203\;program &#8203\;is &#8203\;pending &#8203\;approval &#8203\;for &#8203\;both &#8203\;4 &#8203\;(HR &#8203\;(General)) &#8203\;recertification &#8203\;credits &#8203\;by &#8203\;the &#8203\;HR &#8203\;Certification &#8203\;Institute &#8203\;as &#8203\;well &#8203\;as &#8203\;4 &#8203\;PDCs &#8203\;for &#8203\;the &#8203\;SHRM-CPSM &#8203\;or &#8203\;SHRM-SCPSM.&nbsp\;<br />\n<br />\nFor &#8203\;inquiries\, &#8203\;please &#8203\;contact &#8203\;Nairi &#8203\;Bagdasarian &#8203\;at &#8203\;bagdasarian@butzel.com.&nbsp\;<br />\n<br />\n<u>General &#8203\;Schedule&nbsp\;</u><br />\n<br />\n7:15 &#8203\;am &#8203\;&ndash\; &#8203\;8:00 &#8203\;am &#8203\; &#8203\; &#8203\; &#8203\; &#8203\; &#8203\; &#8203\; &#8203\; &#8203\; &#8203\;Registration&nbsp\;<br />\n8:00 &#8203\;am &#8203\;&ndash\; &#8203\;8:15 &#8203\;am &#8203\; &#8203\; &#8203\; &#8203\; &#8203\; &#8203\; &#8203\; &#8203\; &#8203\; &#8203\;Welcome/Introduction&nbsp\;<br />\n8:15 &#8203\;am &#8203\;&ndash\; &#8203\;8:30 &#8203\;am &#8203\; &#8203\; &#8203\; &#8203\; &#8203\; &#8203\; &#8203\; &#8203\; &#8203\; &#8203\;Break&nbsp\;<br />\n8:30 &#8203\;am &#8203\;&ndash\; &#8203\;9:30 &#8203\;am &#8203\; &#8203\; &#8203\; &#8203\; &#8203\; &#8203\; &#8203\; &#8203\; &#8203\; Workshop &#8203\;Session &#8203\;1&nbsp\;<br />\n9:30 &#8203\;am &#8203\;&ndash\; &#8203\;9:45 &#8203\;am &#8203\; &#8203\; &#8203\; &#8203\; &#8203\; &#8203\; &#8203\; &#8203\; &#8203\; Break&nbsp\;<br />\n9:45 &#8203\;am &#8203\;&ndash\; &#8203\;10:45 &#8203\;am &#8203\; &#8203\; &#8203\; &#8203\; &#8203\; &#8203\; &#8203\; Workshop &#8203\;Session &#8203\;2&nbsp\;<br />\n10:45 &#8203\;am &#8203\;&ndash\; &#8203\;11:00 &#8203\;am &#8203\; &#8203\; &#8203\;&nbsp\; &#8203\; &#8203\; &#8203\;Break&nbsp\;<br />\n11:00 &#8203\;am &#8203\;&ndash\; &#8203\;12:00 &#8203\;pm &#8203\; &#8203\;&nbsp\; &#8203\; &#8203\; &#8203\; &#8203\;Workshop &#8203\;Session &#8203\;3&nbsp\;<br />\n12:00 &#8203\;pm &#8203\;&ndash\; &#8203\;1:00 &#8203\;pm &#8203\; &#8203\; &#8203\; &#8203\; &#8203\; &#8203\; &#8203\; Lunch&nbsp\;<br />\n1:00 &#8203\;pm &#8203\;&ndash\; &#8203\; &#8203\;2:00 &#8203\;pm &#8203\; &#8203\; &#8203\; &#8203\; &#8203\; &#8203\; &#8203\; &#8203\; Lunchtime &#8203\;Keynote&nbsp\;
LOCATION:MotorCity Casino Hotel 2901 Grand River Avenue Detroit\, MI 48201
UID:e.3222.232
SEQUENCE:3
DTSTAMP:20260423T180418Z
URL:https://www.apacc.net/events/details/31st-annual-labor-employment-benefits-and-immigration-law-forum-232
END:VEVENT

END:VCALENDAR
