BEGIN:VCALENDAR
VERSION:2.0
PRODID:-//ChamberMaster//Event Calendar 2.0//EN
METHOD:PUBLISH
X-PUBLISHED-TTL:P3D
REFRESH-INTERVAL:P3D
CALSCALE:GREGORIAN
BEGIN:VEVENT
DTSTART:20240504T213000Z
DTEND:20240505T020000Z
X-MICROSOFT-CDO-ALLDAYEVENT:FALSE
SUMMARY:23rd Annual APACC Gala
DESCRIPTION:You are cordially invited to join APACC at our annual fundraising gala. Celebrate with our founding members\, sponsors\, entrepreneurs\, and civic leaders to celebrate the past year's achievements.\n\n\n\nPlease join us as we look back at 24 years of APACC and celebrate all the accomplishments and milestones. Featuring silent auctions and amazing performances!\n\n	Ethnic or Black-tie attire is highly encouraged\n	Parking: Hotel Valet is only available for guests who have rooms booked for the night. All other guests are welcome to self-park at the parking structure. Guests must be over 21 and bring a valid ID to cross the casino gaming floor.\n	 Check-In: There is no physical ticket to the event\, please check-in at the registration table near the hotel valet lobby upon arrival.\n\nBook a Room at MGM Grand Detroit for $279.00 for the 23rd Annual APACC Gala on Saturday\, May 4\, 2024. \n\nMGM Reservation link: https://book.passkey.com/e/50731091  \n\nRoom not inclusive of tax and resort fees. \n\nThe reservation cutoff date is 04/03/2024 at 11:59 p.m. \n\n(Regular room rates will be charged after the cut-off date 04/03/2024 - NO EXCEPTIONS)\n\n\n\nFor more information on sponsorship opportunities or to customize a sponsor to fit your company goals\, please contact Duc Nguyen Abrahamson at apacc@apacc.net or 248.430.5855.\n\n\n\nSponsorships available here! \n\n\n\nAgenda:\n\n5:30 p.m. VIP Reception\n\n6:30 p.m. Grand Ball Room Opens\n\n\n	Cultural Performance\n	Master of Ceremonies\n	Invocation\n	Annual Gala Event Chair Welcome Speech\n\n\n7:00 p.m. Dinner\n\n8:00 p.m. Keynote\n\n9:00 p.m. Silent Auction Closes\n\n\n	Afterglow & Networking Reception\n	\n		DJ Zaneta Alvarez\n		Special Performance\, Van Nguyen\n	\n	\n\n\n10:00 p.m. Event Concludes\n\n\nMedia Sponsor: Corp! Magazine\n\nMagazine Sponsor: DBusiness\n\n\n\n* A virtual month-long celebration alternative will replace the in-person gala at the discretion of the Executive Director in case of health restrictions.
X-ALT-DESC;FMTTYPE=text/html:<br />\nYou are cordially invited to join APACC at our annual fundraising gala. Celebrate with our founding members\, sponsors\, entrepreneurs\, and civic leaders to celebrate the past year&#39\;s achievements.<br />\n<br />\nPlease join us as we look back at 24 years of APACC and celebrate all the accomplishments and milestones.&nbsp\;Featuring silent auctions and amazing performances!\n<ul>\n	<li>Ethnic or Black-tie attire is highly encouraged</li>\n	<li>Parking:&nbsp\;Hotel Valet is only available for guests who have rooms booked for the night. All other guests are welcome to self-park at the parking structure. Guests must be over 21 and bring a valid ID to cross the casino gaming floor.</li>\n	<li>&#8203\;Check-In:&nbsp\;There is no physical ticket to the event\, please check-in at the registration table near the hotel valet lobby upon arrival.</li>\n</ul>\nBook a Room at MGM Grand Detroit for $279.00 for the 23rd Annual APACC Gala on Saturday\, May 4\, 2024.&nbsp\;<br />\nMGM Reservation link: <a href="https://book.passkey.com/event/50731091/owner/58724/home" target="_blank">https://book.passkey.com/e/50731091&nbsp\;&nbsp\;</a><br />\nRoom not inclusive of tax and resort fees.&nbsp\;<br />\nThe reservation cutoff date is 04/03/2024 at 11:59 p.m.&nbsp\;<br />\n<em><strong>(Regular room rates will be charged after the cut-off date 04/03/2024 - NO EXCEPTIONS)</strong></em><br />\n<br />\nFor more information on sponsorship opportunities or to customize a sponsor to fit your company goals\, please contact Duc Nguyen Abrahamson at <a href="mailto:apacc@apacc.net" target="_blank">apacc@apacc.net</a> or 248.430.5855.<br />\n<br />\n<a href="https://chambermaster.blob.core.windows.net/userfiles/UserFiles/chambers/3222/CMS/Sponsorship/2024-Annual-Gala-Sponsorship-Packet.pdf" target="_blank">Sponsorships available here!&#8203\;</a><br />\n<br />\n<strong>Agenda:</strong>\n\n<div>5:30 p.m. VIP Reception</div>\n\n<div>6:30 p.m. Grand Ball Room Opens</div>\n\n<ul>\n	<li>Cultural Performance</li>\n	<li>Master&nbsp\;of Ceremonies</li>\n	<li>Invocation</li>\n	<li>Annual Gala Event Chair Welcome Speech</li>\n</ul>\n\n<div>7:00 p.m. Dinner</div>\n\n<div>8:00 p.m. Keynote</div>\n\n<div>9:00 p.m. Silent Auction Closes</div>\n\n<ul>\n	<li>Afterglow &amp\; Networking Reception\n	<ul>\n		<li>DJ Zaneta Alvarez</li>\n		<li>Special Performance\,&nbsp\;Van Nguyen</li>\n	</ul>\n	</li>\n</ul>\n\n<div>10:00 p.m. Event Concludes</div>\n<br />\nMedia Sponsor: Corp! Magazine<br />\nMagazine Sponsor: DBusiness<br />\n<br />\n* A virtual month-long celebration alternative will replace the in-person gala at the discretion of the Executive Director in case of health restrictions.&nbsp\;
LOCATION:
UID:e.3222.2758
SEQUENCE:3
DTSTAMP:20260422T124710Z
URL:https://www.apacc.net/events/details/23rd-annual-apacc-gala-2758
END:VEVENT

END:VCALENDAR
