BEGIN:VCALENDAR
VERSION:2.0
PRODID:-//ChamberMaster//Event Calendar 2.0//EN
METHOD:PUBLISH
X-PUBLISHED-TTL:P3D
REFRESH-INTERVAL:P3D
CALSCALE:GREGORIAN
BEGIN:VEVENT
DTSTART:20260421T160000Z
DTEND:20260421T210000Z
X-MICROSOFT-CDO-ALLDAYEVENT:FALSE
SUMMARY:2026 Future Mobility Partnering
DESCRIPTION:Helping automotive companies connect with top Korean suppliers. \n\n\n\nKOTRA is excited to invite you to our event featuring Hyundai Tier-1 suppliers. You'll have the opportunity to meet 35 companies in person (35 more online).\n\n\n\nAgenda:\n\n\n	11:30 AM - : Registration opens\n	12:00 PM - 1:00 PM: Networking Lunch (on us!)\n	1:00 PM - 5:00 PM: 1:1 Supplier Meetings & Networking\n\n\nKey features:\n\n\n	1:1 prearranged meetings with top automotive suppliers you want\n	Choose your preferred time - 15 to 30 minutes per meeting\n	Complimentary participation with lunch buffet\, snacks\, and beverages provided\n\nTo register\, please email Solbin at spcarlson@kotra.or.kr with:\n\n\n	The suppliers you'd like to meet (or simply let her know your products\, and she can give you suggestions)\n	Your available time range\n\nClick here to view flyer with supplier directory
X-ALT-DESC;FMTTYPE=text/html:<div>Helping automotive companies connect with top Korean suppliers.&nbsp\;<br />\n<br />\nKOTRA is excited to invite you to our event featuring Hyundai Tier-1 suppliers. You&#39\;ll have the opportunity to meet 35 companies in person (35 more online).</div>\n\n<div><br />\n<strong>Agenda:</strong></div>\n\n<ul>\n	<li>11:30 AM - : Registration opens</li>\n	<li>12:00 PM - 1:00 PM: Networking Lunch (on us!)</li>\n	<li>1:00 PM - 5:00 PM: 1:1 Supplier Meetings &amp\; Networking</li>\n</ul>\n\n<div><strong>Key features:</strong></div>\n\n<ul>\n	<li>1:1 prearranged meetings with top automotive suppliers you want</li>\n	<li>Choose your preferred time - 15 to 30 minutes per meeting</li>\n	<li>Complimentary participation with lunch buffet\, snacks\, and beverages provided</li>\n</ul>\nTo register\, please email Solbin at <a href="mailto:spcarlson@kotra.or.kr?subject=KOTRA%20automotive%20supplier%20event%20registration">spcarlson@kotra.or.kr</a> with:\n\n<ol>\n	<li>The suppliers you&rsquo\;d like to meet (or simply let her know your products\, and she&nbsp\;can give you suggestions)</li>\n	<li>Your available time range</li>\n</ol>\n<a href="https://chambermaster.blob.core.windows.net/userfiles/UserFiles/chambers/3222/File/2026FutureMobilityPartneringEventwithsupplierdirectory.pdf" target="_blank">Click here to view flyer with supplier directory</a><br />\n&nbsp\;
LOCATION:The Westin Southfield Detroit Hotel Algonquin Ballroom
UID:e.3222.3049
SEQUENCE:3
DTSTAMP:20260419T125418Z
URL:https://www.apacc.net/events/details/2026-future-mobility-partnering-3049
END:VEVENT

END:VCALENDAR
