BEGIN:VCALENDAR
VERSION:2.0
PRODID:-//ChamberMaster//Event Calendar 2.0//EN
METHOD:PUBLISH
X-PUBLISHED-TTL:P3D
REFRESH-INTERVAL:P3D
CALSCALE:GREGORIAN
BEGIN:VEVENT
DTSTART:20250531T220000Z
DTEND:20250601T010000Z
X-MICROSOFT-CDO-ALLDAYEVENT:FALSE
SUMMARY:2025 SPLENDOR OF THE EAST - A Petal's Journey Cultural Show
DESCRIPTION:Now in its 24th year\, the Council of Asian Pacific Americans (CAPA) proudly presents its signature event\, "Splendor of the East." CAPA's much anticipated annual cultural showcase will take place at The Oakland Center\, on Saturday\, May 31\, 2025 at 6:00 PM (EST).\n\n\n\nThe event will bring together the music\, art and talent of Michigan's Asian Pacific American community and rich cultural heritage and will be a spectacular homage to celebration of love shining through to a bright future!\n\n\n\nCAPA's signature events\, including this\, the Splendor of the East\, continues to demonstrate the growing strength of the Asian Pacific American communities and their increasing contributions to Michigan's diversity\, vitality and economy.\n\n\n\nThe Council of Asian Pacific Americans hopes you will join us on Saturday May 31\, 2025 at 6:00 PM (EST) for our wonderful showcase of Asian celebration   The Splendor of the East   A Petal's Journey!
X-ALT-DESC;FMTTYPE=text/html:<br />\nNow in its 24th year\, the Council of Asian Pacific Americans (CAPA) proudly presents its signature event\, &ldquo\;Splendor of the East.&rdquo\; CAPA&rsquo\;s much anticipated annual cultural showcase will take place at The Oakland Center\, on Saturday\, May 31\, 2025 at 6:00 PM (EST).<br />\n<br />\nThe event will bring together the music\, art and talent of Michigan&rsquo\;s Asian Pacific American community and rich cultural heritage and will be a spectacular homage to celebration of love shining through to a bright future!<br />\n<br />\nCAPA&rsquo\;s signature events\, including this\, the Splendor of the East\, continues to demonstrate the growing strength of the Asian Pacific American communities and their increasing contributions to Michigan&rsquo\;s diversity\, vitality and economy.<br />\n<br />\nThe Council of Asian Pacific Americans hopes you will join us on Saturday May 31\, 2025 at 6:00 PM (EST) for our wonderful showcase of Asian celebration &ndash\; The Splendor of the East &ndash\; A Petal&#39\;s Journey!
LOCATION:The Oakland Center Oakland University
UID:e.3222.2979
SEQUENCE:3
DTSTAMP:20260425T161657Z
URL:https://www.apacc.net/events/details/2025-splendor-of-the-east-a-petal-s-journey-cultural-show-2979
END:VEVENT

END:VCALENDAR
