BEGIN:VCALENDAR
VERSION:2.0
PRODID:-//ChamberMaster//Event Calendar 2.0//EN
METHOD:PUBLISH
X-PUBLISHED-TTL:P3D
REFRESH-INTERVAL:P3D
CALSCALE:GREGORIAN
BEGIN:VEVENT
DTSTART:20251009T003000Z
DTEND:20251009T033000Z
X-MICROSOFT-CDO-ALLDAYEVENT:FALSE
SUMMARY:2025 Small Business Outreach Event - Supplier Resource Summit
DESCRIPTION:Let's talk business! Join us in Lansing at the Michigan Library & Historical Center on October 8th for our next outreach event.\n\n\n\nThis is a unique opportunity for small businesses across the region to learn more about how to do business with the State of Michigan and discover resources to help you successfully bid on government projects.\n\n\n\nAgenda\n\n\n\nThis event will feature a Contracting 101 presentation with subject matter experts from State of Michigan Procurement and Design & Construction staff. It'll also feature the following re-source partners:\n\n	Lansing Regional Chamber of Commerce\n	Small Business Administration\n	South Central Michigan APEX
X-ALT-DESC;FMTTYPE=text/html:<br />\nLet&rsquo\;s talk business! Join us in Lansing at the Michigan Library &amp\; Historical Center on October 8th for our next outreach event.<br />\n<br />\nThis is a unique opportunity for small businesses across the region to learn more about how to do business with the State of Michigan and discover resources to help you successfully bid on government projects.<br />\n<br />\n<strong>Agenda</strong><br />\n<br />\nThis event will feature a Contracting 101 presentation with subject matter experts from State of Michigan Procurement and Design &amp\; Construction staff. It&rsquo\;ll also feature the following re-source partners:\n<ul>\n	<li>Lansing Regional Chamber of Commerce</li>\n	<li>Small Business Administration</li>\n	<li>South Central Michigan APEX</li>\n</ul>\n
LOCATION:Michigan Library & Historical Center
UID:e.3222.3023
SEQUENCE:3
DTSTAMP:20260426T000912Z
URL:https://www.apacc.net/events/details/2025-small-business-outreach-event-supplier-resource-summit-3023
END:VEVENT

END:VCALENDAR
