BEGIN:VCALENDAR
VERSION:2.0
PRODID:-//ChamberMaster//Event Calendar 2.0//EN
METHOD:PUBLISH
X-PUBLISHED-TTL:P3D
REFRESH-INTERVAL:P3D
CALSCALE:GREGORIAN
BEGIN:VEVENT
DTSTART:20250923T120000Z
DTEND:20250924T230000Z
X-MICROSOFT-CDO-ALLDAYEVENT:FALSE
SUMMARY:2025 Great Lakes Women’s Business Conference
DESCRIPTION:The 2025 Great Lakes Women's Business Conference brings together certified women-owned businesses nationwide\, corporate members\, government supplier and procurement professionals. The conference addresses the needs of both emerging and established business owners\, empowering women entrepreneurs to build connections and shape the future of business by tackling current challenges head-on.\n\n\n\nWEmatch\n\nThe deadline to apply will be posted later in 2025 for Suppliers to apply for one-on-one sessions between qualified certified WBEs and Corporations with specific business opportunities.\n\n\n\nWEpitch Competition\n\nWEpitch Competition\, is a fast-paced business pitch tournament. Fifteen WBEs will pitch their businesses to a panel of business experts at the Women's Business Conference.\n\n\n\nWorshops\n\nEducational Workshops & Coaching Labs\n\nDiscussion groups that emphasize the exchange of ideas\, demonstrations of skills & application of techniques & interactive business training\, and coaching sessions.\n\n \n\nAwards\n\nSupplier Awards Program\n\nThe awards are for outstanding members that go above and beyond to support the Great Lakes Women WBC. Their leadership and support are an inspiration to all.
X-ALT-DESC;FMTTYPE=text/html:<p>&nbsp\;</p>\n\n<p>The 2025 Great Lakes Women&rsquo\;s Business Conference brings together certified women-owned businesses nationwide\, corporate members\, government supplier and procurement professionals. The conference addresses the needs of both emerging and established business owners\, empowering women entrepreneurs to build connections and shape the future of business by tackling current challenges head-on.<br />\n<br />\n<strong>WEmatch</strong><br />\nThe deadline to apply will be posted later in 2025 for Suppliers to apply for one-on-one sessions between qualified certified WBEs and Corporations with specific business opportunities.<br />\n<br />\n<strong>WEpitch Competition</strong><br />\nWEpitch Competition\, is a fast-paced business pitch tournament. Fifteen WBEs will pitch their businesses to a panel of business experts at the Women&rsquo\;s Business Conference.<br />\n<br />\n<strong>Worshops</strong><br />\nEducational Workshops &amp\; Coaching Labs<br />\nDiscussion groups that emphasize the exchange of ideas\, demonstrations of skills &amp\; application of techniques &amp\; interactive business training\, and coaching sessions.<br />\n<strong>&nbsp\;<br />\nAwards</strong><br />\nSupplier Awards Program<br />\nThe awards are for outstanding members that go above and beyond to support the Great Lakes Women WBC. Their leadership and support are an inspiration to all.<br />\n&nbsp\;</p>\n
LOCATION:Suburban Collective Showcase\, Novi\, Michigan
UID:e.3222.2995
SEQUENCE:3
DTSTAMP:20260425T222357Z
URL:https://www.apacc.net/events/details/2025-great-lakes-women-s-business-conference-2995
END:VEVENT

END:VCALENDAR
