BEGIN:VCALENDAR
VERSION:2.0
PRODID:-//ChamberMaster//Event Calendar 2.0//EN
METHOD:PUBLISH
X-PUBLISHED-TTL:P3D
REFRESH-INTERVAL:P3D
CALSCALE:GREGORIAN
BEGIN:VEVENT
DTSTART:20210126T140000Z
DTEND:20210126T200000Z
X-MICROSOFT-CDO-ALLDAYEVENT:FALSE
SUMMARY:2021 WSU Supplier Matchmaking Day
DESCRIPTION:Are you a supplier looking for new opportunities? PMBC has partnered with Wayne State University (WSU) to hold the 2021 WSU Supplier Matchmaking Day on Tuesday\, January 26th from 9:00am-3:00pm. This one-day virtual event will provide suppliers an:\n\nIn-depth introduction to the WSU procurement process\n\nUnderstanding of how to connect with each of the five participating WSU purchasing units\n\nOpportunity to hear from resource partners on services for diverse suppliers\n\nQualified suppliers will be invited to 1:1 meetings with purchasing units hosted through the Zoom platform following the webinar. Active WSU purchasing needs are listed in a supplier application that is required for participation in meetings. Applications are due by January 15. Please note that all suppliers may not be selected for 1:1 meetings\, but will be able to participate in the webinar.
X-ALT-DESC;FMTTYPE=text/html:<br />\nAre you a supplier looking for new opportunities? PMBC has partnered with Wayne State University (WSU) to hold the 2021 WSU Supplier Matchmaking Day on Tuesday\, January 26th from 9:00am-3:00pm. This one-day virtual event will provide suppliers an:<br />\nIn-depth introduction to the WSU procurement process<br />\nUnderstanding of how to connect with each of the five participating WSU purchasing units<br />\nOpportunity to hear from resource partners on services for diverse suppliers<br />\nQualified suppliers will be invited to 1:1 meetings with purchasing units hosted through the Zoom platform following the webinar. Active WSU purchasing needs are listed in a supplier application that is required for participation in meetings. Applications are due by January 15. Please note that all suppliers may not be selected for 1:1 meetings\, but will be able to participate in the webinar.&nbsp\;
LOCATION:Virtual
UID:e.3222.2038
SEQUENCE:3
DTSTAMP:20260421T113912Z
URL:https://www.apacc.net/events/details/2021-wsu-supplier-matchmaking-day-2038
END:VEVENT

END:VCALENDAR
