BEGIN:VCALENDAR
VERSION:2.0
PRODID:-//ChamberMaster//Event Calendar 2.0//EN
METHOD:PUBLISH
X-PUBLISHED-TTL:P3D
REFRESH-INTERVAL:P3D
CALSCALE:GREGORIAN
BEGIN:VEVENT
DTSTART:20200326T220000Z
DTEND:20200327T010000Z
X-MICROSOFT-CDO-ALLDAYEVENT:FALSE
SUMMARY:2020 Turner School of Construction Managemet
DESCRIPTION:ENROLL TODAY for a FREE 9-Week CM(Construction Management) Training Program.\n\nClick here for more information\n\nFor Small\, Disadvantaged\, Minority-Owned\, Women-Owned\, and/or Veteran-Owned Businesses to help enhance and grow their construction businesses! ! !
X-ALT-DESC;FMTTYPE=text/html:<span style="font-size:20px\;"><span style="font-family:times new roman\;">ENROLL TODAY for a FREE 9-Week CM(Construction Management) Training Program.</span></span><br />\n<a href="https://chambermaster.blob.core.windows.net/userfiles/UserFiles/chambers/3222/File/Partner_Events/EnrollmentFlyer-TurnerSchoolofConstructionManagement.pdf">Click here</a> for more information<br />\nFor Small\, Disadvantaged\, Minority-Owned\, Women-Owned\, and/or Veteran-Owned Businesses to help enhance and grow their construction businesses! ! !
LOCATION:Dickinson Wright PLLC\, 500 Woodward Ave.\, Ally Detroit\, MI 48226\, Free parking at the One Detroit Garage\, 201 Larned St.\, Detroit\, MI 48226(right next to Ally Detroit Center)
UID:e.3222.1624
SEQUENCE:3
DTSTAMP:20260423T110831Z
URL:https://www.apacc.net/events/details/2020-turner-school-of-construction-managemet-1624
END:VEVENT

END:VCALENDAR
