BEGIN:VCALENDAR
VERSION:2.0
PRODID:-//ChamberMaster//Event Calendar 2.0//EN
METHOD:PUBLISH
X-PUBLISHED-TTL:P3D
REFRESH-INTERVAL:P3D
CALSCALE:GREGORIAN
BEGIN:VEVENT
DTSTART:20200512T190000Z
DTEND:20200512T200000Z
X-MICROSOFT-CDO-ALLDAYEVENT:FALSE
SUMMARY:2020 National AAPI Business Summit
DESCRIPTION:As Co-Chair of WHIAAPI\, Secretary Wilbur L. Ross caps off the series of webinars with his remarks for the 2020 National AAPI Business Summit\n\n\n\nThe National Asian American and Pacific Islander (AAPI) Business Summit is a signature event of the Minority Business Development Agency (MBDA) and the U.S. Department of Commerce to celebrate AAPI Heritage Month.\n\n\n\nThe summit\, held annually since 2014 during the month of May\, convenes AAPI entrepreneurs\, policymakers\, and advocates from across the country.
X-ALT-DESC;FMTTYPE=text/html:As <strong>Co-Chair of WHIAAPI\, Secretary Wilbur L. Ross</strong> caps off the series of webinars with his remarks for the 2020 National AAPI Business Summit<br />\n<br />\nThe National Asian American and Pacific Islander (AAPI) Business Summit is a signature event of the Minority Business Development Agency (MBDA) and the U.S. Department of Commerce to celebrate AAPI Heritage Month.<br />\n<br />\nThe summit\, held annually since 2014 during the month of May\, convenes AAPI entrepreneurs\, policymakers\, and advocates from across the country.
LOCATION:Webinar
UID:e.3222.1740
SEQUENCE:3
DTSTAMP:20260423T081934Z
URL:https://www.apacc.net/events/details/2020-national-aapi-business-summit-05-12-2020-1740
END:VEVENT

END:VCALENDAR
