BEGIN:VCALENDAR
VERSION:2.0
PRODID:-//ChamberMaster//Event Calendar 2.0//EN
METHOD:PUBLISH
X-PUBLISHED-TTL:P3D
REFRESH-INTERVAL:P3D
CALSCALE:GREGORIAN
BEGIN:VEVENT
DTSTART;VALUE=DATE:20200824
DTEND;VALUE=DATE:20200831
TRANSP:TRANSPARENT
X-MICROSOFT-CDO-ALLDAYEVENT:TRUE
SUMMARY:2020 Census Week of Action
DESCRIPTION:Join the 2020 Census Week of Action from Aug. 24 to Aug. 30 to help engage the hardest-to-count (HTC) households.  According to the 2020 CBAMS Survey Report\, Asians are the least familiar with the census and least likely to fill out the census form out of any other racial group in the country. Let us make sure that AAPIs are counted for the #2020Census. Fill out the 2020 Census today!\n\n\n\nThe results of the 2020 Census will help determine how hundreds of billions of dollars in federal funding flow into communities every year for the next decade. That funding shapes many different aspects of every community\, no matter the size\, no matter the location. The #2020Census is an opportunity to shape the future of AAPI communities across this nation and ensure that our voices are heard!\n\n\n\n-Mandarin Chinese: click here \n\n-Hindi: click here \n\n-Japanese: click here\n\n-Korean: click here \n\n-Thai: click here \n\n-Tagalog: click here \n\n-Other languages: click here\n\n\n\nNot yet a 2020 Census partner? This once-a-decade count is critically important. Learn how it can impact your community and how you can benefit from partnering\, click here.
X-ALT-DESC;FMTTYPE=text/html:Join the 2020 Census Week of Action from Aug. 24 to Aug. 30 to help engage the hardest-to-count (HTC) households.&nbsp\; According to the <a href="https://www2.census.gov/programs-surveys/decennial/2020/program-management/final-analysis-reports/2020-report-cbams-study-survey.pdf?utm_content=&amp\;utm_medium=email&amp\;utm_name=&amp\;utm_source=govdelivery&amp\;utm_term=" target="_blank">2020 CBAMS Survey Report</a>\, Asians are the least familiar with the census and least likely to fill out the census form out of any other racial group in the country. Let us make sure that AAPIs are counted for the #2020Census. Fill out the 2020 Census today!<br />\n<br />\nThe results of the 2020 Census will help determine how hundreds of billions of dollars in <a href="https://2020census.gov/en/community-impact.html?utm_content=&amp\;utm_medium=email&amp\;utm_name=&amp\;utm_source=govdelivery&amp\;utm_term=" target="_blank">federal funding</a> flow into communities every year for the next decade. That funding shapes many different aspects of every community\, no matter the size\, no matter the location. The #2020Census is an opportunity to shape the future of AAPI communities across this nation and ensure that our voices are heard!<br />\n<br />\n-Mandarin Chinese: <a href="https://2020census.gov/zh-hant.html?utm_content=&amp\;utm_medium=email&amp\;utm_name=&amp\;utm_source=govdelivery&amp\;utm_term=" target="_blank">click here</a>&nbsp\;<br />\n-Hindi: <a href="https://2020census.gov/hi.html?utm_content=&amp\;utm_medium=email&amp\;utm_name=&amp\;utm_source=govdelivery&amp\;utm_term=" target="_blank">click here</a>&nbsp\;<br />\n-Japanese: <a href="https://2020census.gov/ja.html?utm_content=&amp\;utm_medium=email&amp\;utm_name=&amp\;utm_source=govdelivery&amp\;utm_term=" target="_blank">click here</a><br />\n-Korean: <a href="https://2020census.gov/ko.html?utm_content=&amp\;utm_medium=email&amp\;utm_name=&amp\;utm_source=govdelivery&amp\;utm_term=" target="_blank">click here</a>&nbsp\;<br />\n-Thai: <a href="https://2020census.gov/th.html?utm_content=&amp\;utm_medium=email&amp\;utm_name=&amp\;utm_source=govdelivery&amp\;utm_term=" target="_blank">click here&nbsp\;</a><br />\n-Tagalog: <a href="https://2020census.gov/tl.html?utm_content=&amp\;utm_medium=email&amp\;utm_name=&amp\;utm_source=govdelivery&amp\;utm_term=" target="_blank">click here&nbsp\;</a><br />\n-Other languages: <a href="https://2020census.gov/en/languages.html?utm_content=&amp\;utm_medium=email&amp\;utm_name=&amp\;utm_source=govdelivery&amp\;utm_term=" target="_blank">click here</a><br />\n<br />\nNot yet a 2020 Census partner? This once-a-decade count is critically important. Learn how it can impact your community and how you can benefit from partnering\, <a href="https://2020census.gov/en/partners.html?utm_content=&amp\;utm_medium=email&amp\;utm_name=&amp\;utm_source=govdelivery&amp\;utm_term=" target="_blank">click here.</a>
LOCATION:
UID:e.3222.1946
SEQUENCE:3
DTSTAMP:20260423T012417Z
URL:https://www.apacc.net/events/details/2020-census-week-of-action-1946
END:VEVENT

END:VCALENDAR
