BEGIN:VCALENDAR
VERSION:2.0
PRODID:-//ChamberMaster//Event Calendar 2.0//EN
METHOD:PUBLISH
X-PUBLISHED-TTL:P3D
REFRESH-INTERVAL:P3D
CALSCALE:GREGORIAN
BEGIN:VEVENT
DTSTART:20190311T120000Z
DTEND:20190314T033000Z
X-MICROSOFT-CDO-ALLDAYEVENT:FALSE
SUMMARY:2019 WBENC Summit and Salute
DESCRIPTION:Summit & Summit is a signature event from the Women's Business Enterprise National Council (WBENC) dedicated to the development\, growth\, and success of women-owned businesses. From March 11 - 13\, 2019\, women entrepreneurs\, corporate representatives\, diversity and inclusion experts\, and other supporters will gather in Houston\, Texas for three days of networking and learning\, all centered around finding and nurturing business opportunities for women-owned businesses.
X-ALT-DESC;FMTTYPE=text/html:Summit &amp\; Summit is a signature event from the Women&rsquo\;s Business Enterprise National Council (WBENC) dedicated to the development\, growth\, and success of women-owned businesses. From March 11 - 13\, 2019\, women entrepreneurs\, corporate representatives\, diversity and inclusion experts\, and other supporters will gather in Houston\, Texas for three days of networking and learning\, all centered around finding and nurturing business opportunities for women-owned businesses.&nbsp\;
LOCATION:Marriott Marquis Houston 1777 Walker Street Houston\, TX 77010
UID:e.3222.233
SEQUENCE:3
DTSTAMP:20260423T061026Z
URL:https://www.apacc.net/events/details/2019-wbenc-summit-and-salute-233
END:VEVENT

END:VCALENDAR
