BEGIN:VCALENDAR
VERSION:2.0
PRODID:-//ChamberMaster//Event Calendar 2.0//EN
METHOD:PUBLISH
X-PUBLISHED-TTL:P3D
REFRESH-INTERVAL:P3D
CALSCALE:GREGORIAN
BEGIN:VEVENT
DTSTART:20180907T130000Z
DTEND:20180907T200000Z
X-MICROSOFT-CDO-ALLDAYEVENT:FALSE
SUMMARY:2018 Korea Trade Delegation
DESCRIPTION:The Korea Trade-Investment Promotion Agency (KOTRA) is hosting Mold & Die event held on September 7th\, 2018 at the Marriott Hotel in Troy. At this event\, more than 15 leading Korean auto parts and mold makers will take part and introduce their products that range from plastic injection molds\, press die\, pipe\, aluminum extrusion material\, to cutting machines\, and automatic guided vehicle. You are strongly encouraged to take advantage of this unique opportunity to build partnershps with qualified Korean suppliers.
X-ALT-DESC;FMTTYPE=text/html:The Korea Trade-Investment Promotion Agency (KOTRA) is hosting Mold &amp\; Die event held on September 7th\, 2018 at the Marriott Hotel in Troy. At this event\, more than 15 leading Korean auto parts and mold makers will take part and introduce their products that range from plastic injection molds\, press die\, pipe\, aluminum extrusion material\, to cutting machines\, and automatic guided vehicle. You are strongly encouraged to take advantage of this unique opportunity to build partnershps with qualified Korean suppliers.
LOCATION:Detroit Marriott Troy Grand Ballroom 200 W Big Beaver Rd Troy\, MI 48084
UID:e.3222.139
SEQUENCE:3
DTSTAMP:20260424T103257Z
URL:https://www.apacc.net/events/details/2018-korea-trade-delegation-139
END:VEVENT

END:VCALENDAR
