BEGIN:VCALENDAR
VERSION:2.0
PRODID:-//ChamberMaster//Event Calendar 2.0//EN
METHOD:PUBLISH
X-PUBLISHED-TTL:P3D
REFRESH-INTERVAL:P3D
CALSCALE:GREGORIAN
BEGIN:VEVENT
DTSTART:20180201T180000Z
DTEND:20180201T210000Z
X-MICROSOFT-CDO-ALLDAYEVENT:FALSE
SUMMARY:2018 EMU Internship Fair
DESCRIPTION:Career Fair Description\n\n\n\nThe 2018 Internship Fair is an opportunity for EMU freshmen\, sophomores\, juniors\, seniors\, graduate students and alumni to speak with employers offering Internships for the current semester\, summer\, or later semesters. (They are aware that some companies / organizations may also be hiring for part- or full-time positions.)\n\n\n\nStudents have been advised to dress in business attire\, have plenty of copies of their resumes available\, bring a notebook and pen to document any needed follow-up\, review the list of companies at the fair prior to attending the fair (as well as researching them)\, download The Fairs App\, and to follow up with any employers who indicate to do so. We ask that you bring enough business cards to pass out to interested students as we instruct them to ask for one in the Fair Preparation workshops we hold.\n\n\n\nMost students will be pre-registered for the fair\, however some may also be "walk-ins".
X-ALT-DESC;FMTTYPE=text/html:Career Fair Description<br />\n<br />\nThe 2018 Internship Fair is an opportunity for EMU freshmen\, sophomores\, juniors\, seniors\, graduate students and alumni to speak with employers offering Internships for the current semester\, summer\, or later semesters. (They are aware that some companies / organizations may also be hiring for part- or full-time positions.)<br />\n<br />\nStudents have been advised to dress in business attire\, have plenty of copies of their resumes available\, bring a notebook and pen to document any needed follow-up\, review the list of companies at the fair prior to attending the fair (as well as researching them)\, download The Fairs App\, and to follow up with any employers who indicate to do so. We ask that you bring enough business cards to pass out to interested students as we instruct them to ask for one in the Fair Preparation workshops we hold.<br />\n<br />\nMost students will be pre-registered for the fair\, however some may also be &quot\;walk-ins&quot\;.
LOCATION:EMU Student Center Ballroom\, 900 Oakwood St\, Ypsilanti\, MI 48197
UID:e.3222.2
SEQUENCE:3
DTSTAMP:20260419T115130Z
URL:https://www.apacc.net/events/details/2018-emu-internship-fair-2
END:VEVENT

END:VCALENDAR
