BEGIN:VCALENDAR
VERSION:2.0
PRODID:-//ChamberMaster//Event Calendar 2.0//EN
METHOD:PUBLISH
X-PUBLISHED-TTL:P3D
REFRESH-INTERVAL:P3D
CALSCALE:GREGORIAN
BEGIN:VEVENT
DTSTART:20181112T130000Z
DTEND:20181112T190000Z
X-MICROSOFT-CDO-ALLDAYEVENT:FALSE
SUMMARY:2018 Corp! Magazine Michigan's Talent Conference
DESCRIPTION:Talent is the key to any organization's success. With so much talent competition out there in the market companies have been challenged with finding new ways to attract\, and retain talent. Our November 12\, 2018 Talent Resource Conference will help businesses of all sizes find new and creative ways to not only attract new talent into their companies by solutions to retain your current and valuable employees. The Talent Resource Conference will feature a day of networking\, discussions\, and keynote speakers sharing insights and new strategies to attract top talent. The conference is attended by c-suite executives\, talent leaders\, recruiters\, HR experts\, and vocational training representatives from Michigan and beyond.\n\n\n\nIn addition to the conference\, Corp! Magazine will be publishing a Talent Resource Guide which will offer a go-to reference publication with a comprehensive index of corporate recruiters\, universities\, vocational high schools\, veteran and diversity programs\, human resource networks\, and more. Gleaned from interviews and data throughout Michigan\, the guide will help companies attract and retain the highest caliber talent in their industries\, driving growth and profitability for their business.
X-ALT-DESC;FMTTYPE=text/html:Talent is the key to any organization&rsquo\;s success. With so much talent competition out there in the market companies have been challenged with finding new ways to attract\, and retain talent. Our November 12\, 2018 Talent Resource Conference will help businesses of all sizes find new and creative ways to not only attract new talent into their companies by solutions to retain your current and valuable employees. The Talent Resource Conference will feature a day of networking\, discussions\, and keynote speakers sharing insights and new strategies to attract top talent. The conference is attended by c-suite executives\, talent leaders\, recruiters\, HR experts\, and vocational training representatives from Michigan and beyond.<br />\n<br />\nIn addition to the conference\, Corp! Magazine will be publishing a Talent Resource Guide which will offer a go-to reference publication with a comprehensive index of corporate recruiters\, universities\, vocational high schools\, veteran and diversity programs\, human resource networks\, and more. Gleaned from interviews and data throughout Michigan\, the guide will help companies attract and retain the highest caliber talent in their industries\, driving growth and profitability for their business.
LOCATION:VisTaTech Center at Schoolcraft College 18600 Haggerty Rd Livonia\, MI 48152
UID:e.3222.207
SEQUENCE:3
DTSTAMP:20260423T133729Z
URL:https://www.apacc.net/events/details/2018-corp-magazine-michigan-s-talent-conference-207
END:VEVENT

END:VCALENDAR
