BEGIN:VCALENDAR
VERSION:2.0
PRODID:-//ChamberMaster//Event Calendar 2.0//EN
METHOD:PUBLISH
X-PUBLISHED-TTL:P3D
REFRESH-INTERVAL:P3D
CALSCALE:GREGORIAN
BEGIN:VEVENT
DTSTART:20180922T160000Z
DTEND:20180922T200000Z
X-MICROSOFT-CDO-ALLDAYEVENT:FALSE
SUMMARY:2018 B3 Leadership Summit
DESCRIPTION:The program is jointly hosted by OCA National and its Detroit Chapter-Association of Chinese Americans (ACA).  The OCA-Asian Pacific American Advocates is a national non-profit organization of community advocates dedicated to advancing the political\, social\, and economic well-being of APA in the United States.\n\n \n\nLaunched by OCA in 2009\, B3: Build\, Breakthrough & Believe is a professional and leadership development program for aspiring APA professionals interested in taking their personal and professional goals to the next level through leadership development and networking. \n\n\n\nThis year's theme is "Explore\, Engage\, and Execute - the ingredients for Professional and Personal Success".
X-ALT-DESC;FMTTYPE=text/html:The program is jointly hosted by OCA National and its Detroit Chapter-Association of Chinese Americans (ACA).&nbsp\; The OCA-Asian Pacific American Advocates is a national non-profit organization of community advocates dedicated to advancing the political\, social\, and economic well-being of APA in the United States.<br />\n&nbsp\;<br />\nLaunched by OCA in 2009\, B3: Build\, Breakthrough &amp\; Believe is a professional and leadership development program for aspiring APA professionals interested in taking their personal and professional goals to the next level through leadership development and networking.&nbsp\;<br />\n<br />\nThis year&#39\;s theme is &quot\;Explore\, Engage\, and Execute - the ingredients for Professional and Personal Success&quot\;.
LOCATION:Oakland University North Foundation Hall (Rm156) 318 Meadow Brook Rd Rochester\, MI 48309
UID:e.3222.138
SEQUENCE:3
DTSTAMP:20260422T222418Z
URL:https://www.apacc.net/events/details/2018-b3-leadership-summit-138
END:VEVENT

END:VCALENDAR
