BEGIN:VCALENDAR
VERSION:2.0
PRODID:-//ChamberMaster//Event Calendar 2.0//EN
METHOD:PUBLISH
X-PUBLISHED-TTL:P3D
REFRESH-INTERVAL:P3D
CALSCALE:GREGORIAN
BEGIN:VEVENT
DTSTART:20181113T214500Z
DTEND:20181114T004500Z
X-MICROSOFT-CDO-ALLDAYEVENT:FALSE
SUMMARY:2018 Accelerate Michigan Innovation Competition by Invest Detroit
DESCRIPTION:Accelerate Michigan Innovation Competition (AMIC)\, a program of ID Ventures\, is a competition that supports Michigan's entrepreneurial ecosystem by offering entrepreneurs the opportunity to showcase their companies to investors while building connections with entrepreneurs\, business acceleration resources\, and experts in their sector during carefully curated individual meetings.\n\n\n\nAccelerate Michigan supports entrepreneurs who are taking risks and driving innovation in high-tech industries. The competition features the best and brightest seed-stage businesses and introduces them to angel and venture capital firms while awarding up to $1 million in cash and prizes including a $250\,000 investment from Investment Sponsor\, Ann Arbor SPARK.\n\n\n\nJoin us for delicious food and beverages as we support the entrepreneurs building the industry leading companies of tomorrow.\n\n\n\nNetworking Reception and Announcement of Finalists - 4:45pm\n\n\n\nSeated Dinner - 6pm
X-ALT-DESC;FMTTYPE=text/html:Accelerate Michigan Innovation Competition (AMIC)\, a program of ID Ventures\, is a competition that supports Michigan&rsquo\;s entrepreneurial ecosystem by offering entrepreneurs the opportunity to showcase their companies to investors while building connections with entrepreneurs\, business acceleration resources\, and experts in their sector during carefully curated individual meetings.<br />\n<br />\nAccelerate Michigan supports entrepreneurs who are taking risks and driving innovation in high-tech industries. The competition features the best and brightest seed-stage businesses and introduces them to angel and venture capital firms while awarding up to $1 million in cash and prizes including a $250\,000 investment from Investment Sponsor\, Ann Arbor SPARK.<br />\n<br />\nJoin us for delicious food and beverages as we support the entrepreneurs building the industry leading companies of tomorrow.<br />\n<br />\nNetworking Reception and Announcement of Finalists - 4:45pm<br />\n<br />\nSeated Dinner - 6pm
LOCATION:Lexus Velodrome 601 Mack Avenue Detroit\, MI 48201
UID:e.3222.169
SEQUENCE:3
DTSTAMP:20260425T231359Z
URL:https://www.apacc.net/events/details/2018-accelerate-michigan-innovation-competition-by-invest-detroit-169
END:VEVENT

END:VCALENDAR
