BEGIN:VCALENDAR
VERSION:2.0
PRODID:-//ChamberMaster//Event Calendar 2.0//EN
METHOD:PUBLISH
X-PUBLISHED-TTL:P3D
REFRESH-INTERVAL:P3D
CALSCALE:GREGORIAN
BEGIN:VEVENT
DTSTART:20250726T160000Z
DTEND:20250727T000000Z
X-MICROSOFT-CDO-ALLDAYEVENT:FALSE
SUMMARY:1st Annual Detroit Chinatown Block Party
DESCRIPTION:The Detroit Chinatown Vision Committee was formed to preserve and restore the historic Detroit Chinatown neighborhood\, honoring the history of the On Leong Chinese Merchants Association building and the significance of Vincent Chin's death. Our vision is to revitalize the new community into a broader Pan-Asian business and neighborhood in the Cass & Peterboro area.\n\n\n\nWe will be hosting several annual events including the Detroit Chinatown Block Party.\n\n\n\nLearn more about the event and also how to become an event sponsor and/or reserve your booth/table at the Block Party (please reserve by July 11).
X-ALT-DESC;FMTTYPE=text/html:<div>&nbsp\;The <a href="https://detroitchinatownvision.godaddysites.com/" target="_blank">Detroit Chinatown Vision Committee</a> was formed to preserve and restore the historic Detroit Chinatown neighborhood\, honoring the history of the On Leong Chinese Merchants Association building and the significance of Vincent Chin&#39\;s death. Our vision is to revitalize the new community into a broader Pan-Asian business and neighborhood in the Cass &amp\; Peterboro area.<br />\n<br />\nWe will be hosting several annual events including the <em><strong>Detroit Chinatown Block Party</strong></em>.<br />\n<br />\n<a href="https://detroitchinatownvision.godaddysites.com/block-party" target="_blank">Learn more</a> about the event and also&nbsp\;how to <strong><a href="https://docs.google.com/forms/d/e/1FAIpQLSdu1_Fpu8AnF3MIaM8jiD2rlTN_kw1RTR4wixL4quezF4ZKpA/viewform" target="_blank">become an event sponsor</a></strong>&nbsp\;and/or <strong><a href="https://docs.google.com/forms/d/e/1FAIpQLSfyVT6Cou07c7zngGkWWeyJWSGQZ29xb45U1XPxGsYw-ZiVfQ/viewform" target="_blank">reserve your booth/table </a></strong>at the Block Party (please reserve by July 11).</div>\n
LOCATION:Peterboro St. and Cass Ave.\, Detroit Mich.
UID:e.3222.2999
SEQUENCE:3
DTSTAMP:20260425T190911Z
URL:https://www.apacc.net/events/details/1st-annual-detroit-chinatown-block-party-2999
END:VEVENT

END:VCALENDAR
